BEGIN:VCALENDAR
VERSION:2.0
PRODID:-//IHFA - ECPv6.15.20//NONSGML v1.0//EN
CALSCALE:GREGORIAN
METHOD:PUBLISH
X-WR-CALNAME:IHFA
X-ORIGINAL-URL:https://www.ihfa.ie
X-WR-CALDESC:Events for IHFA
REFRESH-INTERVAL;VALUE=DURATION:PT1H
X-Robots-Tag:noindex
X-PUBLISHED-TTL:PT1H
BEGIN:VTIMEZONE
TZID:UTC
BEGIN:STANDARD
TZOFFSETFROM:+0000
TZOFFSETTO:+0000
TZNAME:UTC
DTSTART:20230101T000000
END:STANDARD
END:VTIMEZONE
BEGIN:VEVENT
DTSTART;VALUE=DATE:20250613
DTEND;VALUE=DATE:20250614
DTSTAMP:20260423T013918
CREATED:20250509T150329Z
LAST-MODIFIED:20250521T081421Z
UID:11022-1749772800-1749859199@www.ihfa.ie
SUMMARY:Cork Club - Field Evening
DESCRIPTION:The Cork Club will host a field evening on Friday June the 13th at Michael O’Leary’s “Clondrohid” Herd\, Clondrohid\, Macroom\, P12 R627
URL:https://www.ihfa.ie/events-cal/cork-club-field-evening/
END:VEVENT
BEGIN:VEVENT
DTSTART;VALUE=DATE:20250613
DTEND;VALUE=DATE:20250614
DTSTAMP:20260423T013918
CREATED:20250501T144526Z
LAST-MODIFIED:20250509T145828Z
UID:10996-1749772800-1749859199@www.ihfa.ie
SUMMARY:Galway Holstein Friesian Club Field Evening
DESCRIPTION:Galway Holstein Friesian Club Field Evening \nFriday 13th June 2025 – Hosted by Thomas Cahill\, Tonemace Herd\, Corrandulla\, Co Galway H91 H028 \nStarts at 7pm
URL:https://www.ihfa.ie/events-cal/galway-holstein-friesian-club-field-evening/
END:VEVENT
BEGIN:VEVENT
DTSTART;VALUE=DATE:20250611
DTEND;VALUE=DATE:20250612
DTSTAMP:20260423T013918
CREATED:20250509T144539Z
LAST-MODIFIED:20250509T145634Z
UID:11014-1749600000-1749686399@www.ihfa.ie
SUMMARY:Slaney Club Field Evening - Walter Crean
DESCRIPTION:Slaney Club Field Evening on Wednesday 11th June will be in Walter Crean’s Beechlands Herd Ballyelland\, Davidstown\, Enniscorthy\, Co Wexford Y21NW56.
URL:https://www.ihfa.ie/events-cal/slaney-club-field-evening-walter-crean/
END:VEVENT
BEGIN:VEVENT
DTSTART;VALUE=DATE:20250608
DTEND;VALUE=DATE:20250609
DTSTAMP:20260423T013918
CREATED:20250530T141901Z
LAST-MODIFIED:20250530T141902Z
UID:11099-1749340800-1749427199@www.ihfa.ie
SUMMARY:Dundalk Show
DESCRIPTION:
URL:https://www.ihfa.ie/events-cal/dundalk-show/
END:VEVENT
BEGIN:VEVENT
DTSTART;VALUE=DATE:20250608
DTEND;VALUE=DATE:20250609
DTSTAMP:20260423T013918
CREATED:20250530T141839Z
LAST-MODIFIED:20250530T141839Z
UID:11097-1749340800-1749427199@www.ihfa.ie
SUMMARY:Clonakilty Show
DESCRIPTION:
URL:https://www.ihfa.ie/events-cal/clonakilty-show/
END:VEVENT
BEGIN:VEVENT
DTSTART;VALUE=DATE:20250607
DTEND;VALUE=DATE:20250609
DTSTAMP:20260423T013918
CREATED:20250530T141735Z
LAST-MODIFIED:20250604T142356Z
UID:11095-1749254400-1749427199@www.ihfa.ie
SUMMARY:Ballymoney Show
DESCRIPTION:
URL:https://www.ihfa.ie/events-cal/ballymoney-show/
END:VEVENT
BEGIN:VEVENT
DTSTART;VALUE=DATE:20250601
DTEND;VALUE=DATE:20250602
DTSTAMP:20260423T013918
CREATED:20250509T145331Z
LAST-MODIFIED:20250528T095305Z
UID:11018-1748736000-1748822399@www.ihfa.ie
SUMMARY:Kerry Club - Stockjudging - Dingle Herd
DESCRIPTION:Kerry Club hosts their club stockjudging event at Dingle Holsteins\, Burnham\, Dingle\, V92 W996 on Sunday the 1st of June from 12.30pm to 4pm.
URL:https://www.ihfa.ie/events-cal/kerry-club-stockjudging/
END:VEVENT
BEGIN:VEVENT
DTSTART;VALUE=DATE:20250531
DTEND;VALUE=DATE:20250601
DTSTAMP:20260423T013918
CREATED:20250530T141707Z
LAST-MODIFIED:20250530T141707Z
UID:11093-1748649600-1748735999@www.ihfa.ie
SUMMARY:Belgooly Show
DESCRIPTION:
URL:https://www.ihfa.ie/events-cal/belgooly-show/
END:VEVENT
BEGIN:VEVENT
DTSTART;VALUE=DATE:20250528
DTEND;VALUE=DATE:20250529
DTSTAMP:20260423T013918
CREATED:20250509T142243Z
LAST-MODIFIED:20250521T155228Z
UID:11012-1748390400-1748476799@www.ihfa.ie
SUMMARY:Slaney Club Field Evening - Ned & Neville Copeland
DESCRIPTION:Slaney Club Field Evening on Wednesday 28th May will be in Ned & Neville Copeland’s Huntington Herd\, Clough\, Gorey\, Co Wexford Y25 KW44
URL:https://www.ihfa.ie/events-cal/slaney-club-field-evening-ned-neville-copeland/
END:VEVENT
BEGIN:VEVENT
DTSTART;TZID=UTC:20250526T080000
DTEND;TZID=UTC:20250530T170000
DTSTAMP:20260423T013918
CREATED:20250310T154850Z
LAST-MODIFIED:20250310T154850Z
UID:10925-1748246400-1748624400@www.ihfa.ie
SUMMARY:National Herds Competition
DESCRIPTION:
URL:https://www.ihfa.ie/events-cal/national-herds-competition/
END:VEVENT
BEGIN:VEVENT
DTSTART;VALUE=DATE:20250513
DTEND;VALUE=DATE:20250514
DTSTAMP:20260423T013918
CREATED:20250310T154818Z
LAST-MODIFIED:20250328T124953Z
UID:10923-1747094400-1747180799@www.ihfa.ie
SUMMARY:IHFA AGM & Club Conference 2025
DESCRIPTION:The IHFA Club Conference and AGM will take place on the 13th of May 2025 in the Four Seasons Hotel\, Monaghan.
URL:https://www.ihfa.ie/events-cal/ihfa-agm-club-conference/
ATTACH;FMTTYPE=image/jpeg:https://www.ihfa.ie/wp-content/uploads/2025/03/DSC_3117-002.jpg
END:VEVENT
BEGIN:VEVENT
DTSTART;VALUE=DATE:20250426
DTEND;VALUE=DATE:20250427
DTSTAMP:20260423T013918
CREATED:20250310T154547Z
LAST-MODIFIED:20250423T154455Z
UID:10918-1745625600-1745711999@www.ihfa.ie
SUMMARY:Emerald Expo 2025
DESCRIPTION:The much-anticipated Emerald Expo is set to return for its 13th edition at the Virginia Show Centre in Co. Cavan on Saturday\, April 26. \nThe prestigious all-dairy-breeds cattle show marks the very first event of the Irish show season\, offering exhibitors and attendees an exciting start to 2025. \nWith a substantial prize fund and a lineup of top-quality cattle\, the event promises to be a highlight for breeders and industry professionals alike. \nA show of prestige and excellence\nThe Emerald Expo is proudly sponsored by FBD Insurance\, with additional support from the Irish Holstein Friesian Association (IHFA)\, the Department of Agriculture\, Food and the Marine (DAFM)\, and Tirlán. \nWith seven championship classes\, the competition is highly competitive\, and breeders across Ireland\, including Northern Ireland\, will be competing for top honours. \nOne of the standout events of the show is the Emerald Expo youngstock confined class\, open exclusively to breeders from IHFA club areas\, including Breffni Oriel\, North Eastern\, West Midlands\, and Donegal. \nExhibitors in the group of three class at Emerald Expo 2024\nMeanwhile\, all eyes will be on the Emerald Expo senior championship\, where the best of the best will battle it out to take home the prestigious Seamus Kelly memorial perpetual trophy. \nThe Virginia Show Centre offers excellent facilities\, ensuring that exhibitors\, competitors\, and visitors receive a warm welcome. \nIts convenient location makes it easily accessible for everyone\, adding to the event’s appeal to a broad range of participants. \nEsteemed judge – Andrew Cope\nA key highlight of this year’s event is the appointment of Andrew Cope as the judge for the 2025 Emerald Expo Show. \nHailing from the renowned Huddlesford Herd in Staffordshire\, Andrew is a third-generation farmer with a deep-rooted passion for the Holstein breed. \nHis family has achieved remarkable success in the show ring\, securing supreme champion titles three times at both the Royal Show at Stoneleigh and the European Dairy Event. \n\nAndrew Cope\, judge for the 2025 Emerald Expo Show\n\nAndrew’s judging credentials are impeccable. A respected member of the UK Judges Panel\, the European Judges Panel\, and the Brown Swiss UK Panel\, he has judged major events across Spain\, Denmark\, Hungary\, Ireland\, and the UK. \nHis keen eye for quality and extensive experience make him the perfect candidate to oversee the competition at this year’s Emerald Expo. \nEmerald Expo show director\, Richard Whelan has highlighted the continued growth and success of the event\, attributing it to the commitment of sponsors\, exhibitors\, and the entire show community. \nHe stated: “On behalf of the organising committee\, I especially thank FBD as title sponsor and also extend my gratitude to the IHFA\, the Department of Agriculture\, Food and the Marine\, and all class sponsors. \n“As the first show of the year\, Emerald Expo is a much-anticipated event\, offering breeders an opportunity to showcase their cattle and kick-start the 2025 season. \n“We warmly invite Holstein all-Ireland breeders to participate; the prize schedule of classes and entry forms are available to access with a closing date of Friday\, March 28\,” he added. \nEmerald Expo elite online sale returns\nFor the second consecutive year\, the Emerald Expo elite online sale will take place over the show weekend\, providing breeders with another platform to market their top-quality cattle. \nThis sale is facilitated by Denis Barrett Auctions\, ensuring a smooth and professional experience for buyers and sellers alike. \nA day for networking\, learning\, and celebration\nMore than just a competition\, the Emerald Expo is a social and educational gathering for dairy breeders and industry professionals. \nVisitors can explore the latest agri products and services\, making it a prime opportunity for networking and business development. \nAdmission is free on show day\, and everyone is welcome to attend. Mark your calendars for Saturday\, April 26\, and don’t miss out on the premier dairy cattle show of the season.
URL:https://www.ihfa.ie/events-cal/emerald-expo/
ATTACH;FMTTYPE=image/jpeg:https://www.ihfa.ie/wp-content/uploads/2025/03/Expo24_9116-scaled.jpg
END:VEVENT
BEGIN:VEVENT
DTSTART;TZID=UTC:20250425T080000
DTEND;TZID=UTC:20250428T170000
DTSTAMP:20260423T013918
CREATED:20250321T141901Z
LAST-MODIFIED:20250423T152815Z
UID:10944-1745568000-1745859600@www.ihfa.ie
SUMMARY:Emerald Expo Elite Online Sale 2025
DESCRIPTION:Emerald Expo Elite sale will take place completely online over the weekend of Emerald Expo (25th-28th of April) in conjunction with Denis Barrett Auctions. Accepting calves\, embryo packages and milking lots. \nThe sale will take place Online by Timed Auction at Marteye Denis Barrett.  \nYou must register to bid at Marteye Denis Barrett. \nThe sale will open Friday 25th April 12 noon & close Monday 29th April 7pm in lot order. \nPlease note not all live lots will be available to view at the Emerald Expo Show. \nExport can be arranged for all live lots.  \n5% Buyers Commission on the Hammer Price of each lot purchased. \nPlease contact info@denisbarrett.com or +353 (0) 212455310 with any bidding online queries. \nCatalogue can be found here
URL:https://www.ihfa.ie/events-cal/emerald-expo-elite-online-sale-2/
ATTACH;FMTTYPE=image/jpeg:https://www.ihfa.ie/wp-content/uploads/2025/03/WhatsApp-Image-2025-03-21-at-14.15.05.jpeg
END:VEVENT
BEGIN:VEVENT
DTSTART;VALUE=DATE:20250412
DTEND;VALUE=DATE:20250413
DTSTAMP:20260423T013918
CREATED:20250310T154705Z
LAST-MODIFIED:20250310T154705Z
UID:10920-1744416000-1744502399@www.ihfa.ie
SUMMARY:YMA Spring Workshop
DESCRIPTION:Our first YMA Event of 2025 will be a Stock Judging and Reason Giving Workshop being held on the Cleary Family Farm\, Kildarby\, Borrisokane Co Tipperary E45 TY23!\n\n\nRegistration will open at 11am for a 11.30am start\, sharp!
URL:https://www.ihfa.ie/events-cal/yma-spring-workshop/
END:VEVENT
BEGIN:VEVENT
DTSTART;VALUE=DATE:20250404
DTEND;VALUE=DATE:20250405
DTSTAMP:20260423T013918
CREATED:20250310T155402Z
LAST-MODIFIED:20250310T155402Z
UID:10927-1743724800-1743811199@www.ihfa.ie
SUMMARY:IHFA Awards Night
DESCRIPTION:Killeshin Hotel\, Port Laois
URL:https://www.ihfa.ie/events-cal/ihfa-awards-night/
END:VEVENT
BEGIN:VEVENT
DTSTART;VALUE=DATE:20250326
DTEND;VALUE=DATE:20250327
DTSTAMP:20260423T013918
CREATED:20250211T145812Z
LAST-MODIFIED:20250320T101602Z
UID:10822-1742947200-1743033599@www.ihfa.ie
SUMMARY:IHFA Premier Heifer Sale 2025
DESCRIPTION:The IHFA are delighted to bring the Premier Heifer Sale to Kilmallock Mart\, Co. Limerick on the 26th of March 2025 in conjunction with Denis Barrett Auctions. Sale will be livestreamed with online bidding facility. \nCatalogue can be found here.\n  \nSTANDARDS OF ENTRY\nBoth the Dam and Grand Dam must be classified GP83+\nThe dam must have a minimum of 600kgs combined fat & protein (total solids in one lactation)\nMust be in milk\nRecommended that heifers should be >150 EBI & Dams 3.4% protein \nHEALTH REQUIREMENTS\nAll entrants must be export tested.\nALL ANIMALS MUST BE BVD TESTED (ANIMAL HEALTH IRELAND BVD PROGRAMME) \nHeifers with clinical signs of infectious disease(s) including Ringworm\, Warts\, Facial warts\, fungal or viral infections will not be accepted for entry. \nENTRY FEE\nEntry fee €20\nEntries for heifer sale taken via online form which can be found here. \nHeifers will be judged following the bull sale. \nENTRIES CLOSE ON THE 7TH OF MARCH.
URL:https://www.ihfa.ie/events-cal/ihfa-premier-heifer-sale-2025/
LOCATION:Kilmallock Mart\, Co. Limerick
ATTACH;FMTTYPE=image/jpeg:https://www.ihfa.ie/wp-content/uploads/2022/03/Donegal-FR-club-sale-2022_The-top-four-heifers-selected-in-the-pre-sale-Show-scaled.jpg
END:VEVENT
BEGIN:VEVENT
DTSTART;VALUE=DATE:20250326
DTEND;VALUE=DATE:20250327
DTSTAMP:20260423T013918
CREATED:20250211T144505Z
LAST-MODIFIED:20250319T164400Z
UID:10813-1742947200-1743033599@www.ihfa.ie
SUMMARY:IHFA Premier Bull Show & Sale 2025
DESCRIPTION:The IHFA Premier Bull Show & Sale will be held on Wednesday the 26th of March 2025 at Kilmallock Mart\, Co. Limerick in conjunction with Denis Barrett Auctions. Catalogue available here: \nHEALTH REQUIREMENTS\n• All entrants must be export tested.\n• All animals must be BVD tested (Animal Health Ireland National BVD Programme)\n• Bulls with clinical signs of infectious disease(s) including Ringworm\, Warts\, Facial warts\, fungal or viral infections will not be accepted for entry. \nMINIMUM STANDARDS OF ENTRY\n• Both the Dam & G.Dam must be classified GP83 or better\n• The Dam to have a minimum of 600kgs combined Fat & Protein (total solids in one lact.)\n• Dam on 1st lactation (heifers)\, a minimum of 500kgs combined Fat & Protein will qualify\n• Pure Friesian Dam to have a minimum of 500kgs combined Fat & Protein (total solids)\n• Pedigree Certificates must be issued for all entrants.\n• Age criteria – bulls born between Aug 2023 & Feb 2024)\n• Recommended that bulls should be >150 EBI & Dams 3.5% Protein \nPRE-INSPECTION\nAll bulls will be pre-inspected before the sale to determine that they are of a Quality standard for a Premier Sale. \nENTRIES\nEntries to be submitted using the online form which can be found here. \nTo facilitate any extra information\, an exhibitor who so wishes may submit any extra relevant information and up to a maximum of three photographs. This information will be printed opposite the bull’s pedigree. Ownership details will be catalogued in accordance with CMMS data. \nENTRY FEE\nENTRY FEE = €200 per animal with a refund of €100 on attendance at the sale. If you wish to include an ‘Extra information page’ in the catalogue\, there is an additional cost of €30 per page. (Fees will be taken by direct debit) \n 
URL:https://www.ihfa.ie/events-cal/ihfa-premier-bull-show-sale-2025/
LOCATION:Kilmallock Mart\, Co. Limerick
CATEGORIES:Premier Bull Show & Sale
ATTACH;FMTTYPE=image/jpeg:https://www.ihfa.ie/wp-content/uploads/2025/02/DSC_9520.jpg
END:VEVENT
BEGIN:VEVENT
DTSTART;TZID=UTC:20250325T130000
DTEND;TZID=UTC:20250325T170000
DTSTAMP:20260423T013918
CREATED:20250320T160700Z
LAST-MODIFIED:20250320T160700Z
UID:10940-1742907600-1742922000@www.ihfa.ie
SUMMARY:Dromartin Milking Herd Dispersal Sale
DESCRIPTION:Dispersal of milking portion of the Dromartin Herd of William Foran\, Ballyduff\, Co. Kerry. \n50 cows (4o fresh\, 10 close to calve) and 10 Maiden heifers. \nSale starts at 1pm at the Kingdom Coop Mart\, Tralee. \nFor more details contact the mart directly.
URL:https://www.ihfa.ie/events-cal/dromartin-milking-herd-dispersal-sale/
LOCATION:Kingdom Coop Mart – Tralee\, Carrigeendaniel\, Tralee\, Kerry\, Ireland
END:VEVENT
BEGIN:VEVENT
DTSTART;VALUE=DATE:20250311
DTEND;VALUE=DATE:20250312
DTSTAMP:20260423T013918
CREATED:20250228T124330Z
LAST-MODIFIED:20250228T124331Z
UID:10877-1741651200-1741737599@www.ihfa.ie
SUMMARY:Shadowlane Clearance Sale
DESCRIPTION:Complete clearance of the “Shadowlane Herd” for Jim and Julie Slevin on Tuesday the 11th of March 2025 in Carnew Mart. \nFor more information contact 053 9426234 or 087 9922868
URL:https://www.ihfa.ie/events-cal/shadowlane-clearance-sale/
LOCATION:Carnew Mart
END:VEVENT
BEGIN:VEVENT
DTSTART;VALUE=DATE:20250301
DTEND;VALUE=DATE:20250302
DTSTAMP:20260423T013918
CREATED:20250218T160205Z
LAST-MODIFIED:20250221T094025Z
UID:10840-1740787200-1740873599@www.ihfa.ie
SUMMARY:Greenlawn Sale 2025
DESCRIPTION:Greenlawn Sale 2025 – 1st of March 2025 at Knoackane\, Brosna\, Co. Kerry\, V92 P3F2 \nCompromising of 53 fresh heifers/cows\, 20 bulling heifers\, 10 heifer calves\, 1 red and white bull calf. \nCatalogue can be found here.
URL:https://www.ihfa.ie/events-cal/greenlawn-sale/
ATTACH;FMTTYPE=image/jpeg:https://www.ihfa.ie/wp-content/uploads/2025/02/Screenshot_21-2-2025_9360_issuu.com_.jpeg
END:VEVENT
BEGIN:VEVENT
DTSTART;VALUE=DATE:20250221
DTEND;VALUE=DATE:20250222
DTSTAMP:20260423T013918
CREATED:20250220T105036Z
LAST-MODIFIED:20250220T105037Z
UID:10844-1740096000-1740182399@www.ihfa.ie
SUMMARY:Coolnagree/Beechlands Annual Heifer Sale 2025
DESCRIPTION:The annual Coolnagree/Beechlands sale takes place on Friday 21st of Feburary  at 12 noon in New Ross Mart\, Co. Wexford. \nSale compromises of 60 calved heifers\, 20 maiden heifers and 12 calves. \nFor more information and catalogue contact Richie on 086-8452402.
URL:https://www.ihfa.ie/events-cal/coolnagree-beechlands-annual-heifer-sale-2025/
END:VEVENT
BEGIN:VEVENT
DTSTART;VALUE=DATE:20250131
DTEND;VALUE=DATE:20250201
DTSTAMP:20260423T013918
CREATED:20250129T092705Z
LAST-MODIFIED:20250129T092705Z
UID:10806-1738281600-1738367999@www.ihfa.ie
SUMMARY:Ballintosig Dispersal Sale
DESCRIPTION:• Final dispersal of the Ballintosig herd – 19 PED in-calf heifers with EBI’s to 335.\n• Friday January 31st 11 am @ Cork marts\, Corrin\, Fermoy. P61 EE37\n• Many bred from VG/EX Dam lines.\n• Included in the sale is a half sister to AI Bulls Ballintosig Mr. Man (FR7749) & Ballintosig Star Trek (FR8862) \nCatalogue can be found here
URL:https://www.ihfa.ie/events-cal/ballintosig-dispersal-sale/
LOCATION:Corrin Mart\, Fermoy
END:VEVENT
BEGIN:VEVENT
DTSTART;VALUE=DATE:20241018
DTEND;VALUE=DATE:20241019
DTSTAMP:20260423T013918
CREATED:20240510T115432Z
LAST-MODIFIED:20240510T115432Z
UID:10082-1729209600-1729295999@www.ihfa.ie
SUMMARY:SLANEY CLUB DINNER
DESCRIPTION:Slaney Club Dinner will be held at the Riverside Park Hotel\, Enniscorthy\, Co. Wexford\, Y21 T2F4 on the 18th of October 2024
URL:https://www.ihfa.ie/events-cal/slaney-club-dinner/
END:VEVENT
BEGIN:VEVENT
DTSTART;VALUE=DATE:20241011
DTEND;VALUE=DATE:20241013
DTSTAMP:20260423T013918
CREATED:20240320T093955Z
LAST-MODIFIED:20240902T073307Z
UID:9867-1728604800-1728777599@www.ihfa.ie
SUMMARY:National Dairy Show 2024
DESCRIPTION:The National Dairy Show will be held on October 11th & 12th at the Green Glens Arena\, Millstreet\, Co.Cork. \nEntries for this years show close on Thursday 19th September \nAll Entries to be sent to Georgia Greenan (ggreenan@ihfa.ie)\, IHFA Office\, Ballymacowen\, Clonakilty\, Co.Cork \nPrize Schedule for the 2024 Show can be found by clicking here \nYou can Download Cattle Entry Forms here \nYou can Download Handler Entry Forms here \nAn Exhibitors Agreement Form must be submitted along with all entries\, you can download a copy of it here
URL:https://www.ihfa.ie/events-cal/national-dairy-show-2024/
ATTACH;FMTTYPE=image/jpeg:https://www.ihfa.ie/wp-content/uploads/2024/01/IMG_3289-1-e1725441088309.jpg
END:VEVENT
BEGIN:VEVENT
DTSTART;VALUE=DATE:20240921
DTEND;VALUE=DATE:20240922
DTSTAMP:20260423T013918
CREATED:20240909T110314Z
LAST-MODIFIED:20240909T110314Z
UID:10574-1726876800-1726963199@www.ihfa.ie
SUMMARY:Proven Protein Sale
DESCRIPTION:Radney & Ballymartin are back with their Annual Proven Protein Sale being held on Saturday 21st September in Kanturk Livestock Centre.\n\nYou can download the catalogue using the link below:\n\n\nProven Protein Sale Catalogue 2024
URL:https://www.ihfa.ie/events-cal/proven-protein-sale/
ATTACH;FMTTYPE=image/jpeg:https://www.ihfa.ie/wp-content/uploads/2024/09/The-Proven-Protein-Sale-2024-scaled.jpg
END:VEVENT
BEGIN:VEVENT
DTSTART;TZID=UTC:20240912T113000
DTEND;TZID=UTC:20240912T160000
DTSTAMP:20260423T013918
CREATED:20240801T104055Z
LAST-MODIFIED:20240801T104111Z
UID:10522-1726140600-1726156800@www.ihfa.ie
SUMMARY:Focus Farm Open Day - Joe Healy\, Copperbeech
DESCRIPTION:The IHFA are delighted to host a Farm Walk on the farm of Joe Healy\, Copperbeech Herd\, Athboy\, Co. Meath on Thursday 12th September 2024 in celebration of the 6 Focus Farms IHFA have profiled and featured across our channels and publications this year.\nThe Focus Farm project was designed to highlight the diverse farmers that make up the IHFA and celebrate their excellent herds and ways of farming. The farms range from 60 cows to 180 with production from 5\,000 litres to 10\,000 litres\, and vary from Holstein Friesian to Pure Friesian herds. Through grading up\, any milk recording herd can achieve pedigree status which is a huge benefit for genetic gain and optimising your herd.
URL:https://www.ihfa.ie/events-cal/focus-farm-open-day-joe-healy-copperbeech/
ATTACH;FMTTYPE=image/jpeg:https://www.ihfa.ie/wp-content/uploads/2024/08/1716227131603-scaled.jpg
END:VEVENT
BEGIN:VEVENT
DTSTART;TZID=UTC:20240829T113000
DTEND;TZID=UTC:20240829T160000
DTSTAMP:20260423T013918
CREATED:20240801T102006Z
LAST-MODIFIED:20240801T104143Z
UID:10518-1724931000-1724947200@www.ihfa.ie
SUMMARY:Focus Farm Open Day - Edward Fitzgerald\, Toberfort
DESCRIPTION:The IHFA are delighted to host a Farm Walk on the farm of Edward Fitzgerald\, Toberfort Herd\, Effin\, Co. Limerick on Thursday 29th August 2024 in celebration of the 6 Focus Farms IHFA have profiled and featured across our channels and publications this year.\nThe Focus Farm project was designed to highlight the diverse farmers that make up the IHFA and celebrate their excellent herds and ways of farming. The farms range from 60 cows to 180 with production from 5\,000 litres to 10\,000 litres\, and vary from Holstein Friesian to Pure Friesian herds. Through grading up\, any milk recording herd can achieve pedigree status which is a huge benefit for genetic gain and optimising your herd.
URL:https://www.ihfa.ie/events-cal/focus-farm-open-day-edward-fitzgerald-toberfort/
ATTACH;FMTTYPE=image/jpeg:https://www.ihfa.ie/wp-content/uploads/2024/08/WhatsApp-Image-2024-05-27-at-18.48.31.jpeg
END:VEVENT
BEGIN:VEVENT
DTSTART;VALUE=DATE:20240821
DTEND;VALUE=DATE:20240822
DTSTAMP:20260423T013918
CREATED:20240730T090142Z
LAST-MODIFIED:20240730T090857Z
UID:10511-1724198400-1724284799@www.ihfa.ie
SUMMARY:Baileys Champion Dairy Cow 2024
DESCRIPTION:2024 Virginia Show Wednesday 21st August\n\n\nCompetition entries can be submitted online via the new online form \n\n\nhttps://www.virginiashow.com/baileys-cow\n\n\nBreeders can also contact Patrick Gaynor on 087-2898707
URL:https://www.ihfa.ie/events-cal/baileys-champion-dairy-cow/
ATTACH;FMTTYPE=image/jpeg:https://www.ihfa.ie/wp-content/uploads/2024/07/450078170_780984280909902_6663057531549676751_n.jpeg
END:VEVENT
BEGIN:VEVENT
DTSTART;VALUE=DATE:20240811
DTEND;VALUE=DATE:20240812
DTSTAMP:20260423T013918
CREATED:20240327T165029Z
LAST-MODIFIED:20240327T165050Z
UID:9899-1723334400-1723420799@www.ihfa.ie
SUMMARY:Tullamore Show 2024
DESCRIPTION:The Tullamore Show will take place on Sunday 11th August 2024
URL:https://www.ihfa.ie/events-cal/tullamore-show-2024/
ATTACH;FMTTYPE=image/jpeg:https://www.ihfa.ie/wp-content/uploads/2023/08/1-117-scaled.jpg
END:VEVENT
BEGIN:VEVENT
DTSTART;VALUE=DATE:20240723
DTEND;VALUE=DATE:20240725
DTSTAMP:20260423T013918
CREATED:20240327T163832Z
LAST-MODIFIED:20240327T163832Z
UID:9897-1721692800-1721865599@www.ihfa.ie
SUMMARY:National YMA Calf Show
DESCRIPTION:The National YMA Calf Show will take place at\nThe Hub\, Kilkenny on July 23rd & 24th 2024
URL:https://www.ihfa.ie/events-cal/national-yma-calf-show/
ATTACH;FMTTYPE=image/jpeg:https://www.ihfa.ie/wp-content/uploads/2023/07/IMG_7598-scaled.jpg
END:VEVENT
END:VCALENDAR