BEGIN:VCALENDAR
VERSION:2.0
PRODID:-//IHFA - ECPv6.15.20//NONSGML v1.0//EN
CALSCALE:GREGORIAN
METHOD:PUBLISH
X-WR-CALNAME:IHFA
X-ORIGINAL-URL:https://www.ihfa.ie
X-WR-CALDESC:Events for IHFA
REFRESH-INTERVAL;VALUE=DURATION:PT1H
X-Robots-Tag:noindex
X-PUBLISHED-TTL:PT1H
BEGIN:VTIMEZONE
TZID:UTC
BEGIN:STANDARD
TZOFFSETFROM:+0000
TZOFFSETTO:+0000
TZNAME:UTC
DTSTART:20230101T000000
END:STANDARD
END:VTIMEZONE
BEGIN:VEVENT
DTSTART;VALUE=DATE:20250311
DTEND;VALUE=DATE:20250312
DTSTAMP:20260423T065000
CREATED:20250228T124330Z
LAST-MODIFIED:20250228T124331Z
UID:10877-1741651200-1741737599@www.ihfa.ie
SUMMARY:Shadowlane Clearance Sale
DESCRIPTION:Complete clearance of the “Shadowlane Herd” for Jim and Julie Slevin on Tuesday the 11th of March 2025 in Carnew Mart. \nFor more information contact 053 9426234 or 087 9922868
URL:https://www.ihfa.ie/events-cal/shadowlane-clearance-sale/
LOCATION:Carnew Mart
END:VEVENT
BEGIN:VEVENT
DTSTART;VALUE=DATE:20250301
DTEND;VALUE=DATE:20250302
DTSTAMP:20260423T065000
CREATED:20250218T160205Z
LAST-MODIFIED:20250221T094025Z
UID:10840-1740787200-1740873599@www.ihfa.ie
SUMMARY:Greenlawn Sale 2025
DESCRIPTION:Greenlawn Sale 2025 – 1st of March 2025 at Knoackane\, Brosna\, Co. Kerry\, V92 P3F2 \nCompromising of 53 fresh heifers/cows\, 20 bulling heifers\, 10 heifer calves\, 1 red and white bull calf. \nCatalogue can be found here.
URL:https://www.ihfa.ie/events-cal/greenlawn-sale/
ATTACH;FMTTYPE=image/jpeg:https://www.ihfa.ie/wp-content/uploads/2025/02/Screenshot_21-2-2025_9360_issuu.com_.jpeg
END:VEVENT
BEGIN:VEVENT
DTSTART;VALUE=DATE:20250221
DTEND;VALUE=DATE:20250222
DTSTAMP:20260423T065000
CREATED:20250220T105036Z
LAST-MODIFIED:20250220T105037Z
UID:10844-1740096000-1740182399@www.ihfa.ie
SUMMARY:Coolnagree/Beechlands Annual Heifer Sale 2025
DESCRIPTION:The annual Coolnagree/Beechlands sale takes place on Friday 21st of Feburary  at 12 noon in New Ross Mart\, Co. Wexford. \nSale compromises of 60 calved heifers\, 20 maiden heifers and 12 calves. \nFor more information and catalogue contact Richie on 086-8452402.
URL:https://www.ihfa.ie/events-cal/coolnagree-beechlands-annual-heifer-sale-2025/
END:VEVENT
BEGIN:VEVENT
DTSTART;VALUE=DATE:20250131
DTEND;VALUE=DATE:20250201
DTSTAMP:20260423T065000
CREATED:20250129T092705Z
LAST-MODIFIED:20250129T092705Z
UID:10806-1738281600-1738367999@www.ihfa.ie
SUMMARY:Ballintosig Dispersal Sale
DESCRIPTION:• Final dispersal of the Ballintosig herd – 19 PED in-calf heifers with EBI’s to 335.\n• Friday January 31st 11 am @ Cork marts\, Corrin\, Fermoy. P61 EE37\n• Many bred from VG/EX Dam lines.\n• Included in the sale is a half sister to AI Bulls Ballintosig Mr. Man (FR7749) & Ballintosig Star Trek (FR8862) \nCatalogue can be found here
URL:https://www.ihfa.ie/events-cal/ballintosig-dispersal-sale/
LOCATION:Corrin Mart\, Fermoy
END:VEVENT
BEGIN:VEVENT
DTSTART;VALUE=DATE:20241018
DTEND;VALUE=DATE:20241019
DTSTAMP:20260423T065000
CREATED:20240510T115432Z
LAST-MODIFIED:20240510T115432Z
UID:10082-1729209600-1729295999@www.ihfa.ie
SUMMARY:SLANEY CLUB DINNER
DESCRIPTION:Slaney Club Dinner will be held at the Riverside Park Hotel\, Enniscorthy\, Co. Wexford\, Y21 T2F4 on the 18th of October 2024
URL:https://www.ihfa.ie/events-cal/slaney-club-dinner/
END:VEVENT
BEGIN:VEVENT
DTSTART;VALUE=DATE:20241011
DTEND;VALUE=DATE:20241013
DTSTAMP:20260423T065000
CREATED:20240320T093955Z
LAST-MODIFIED:20240902T073307Z
UID:9867-1728604800-1728777599@www.ihfa.ie
SUMMARY:National Dairy Show 2024
DESCRIPTION:The National Dairy Show will be held on October 11th & 12th at the Green Glens Arena\, Millstreet\, Co.Cork. \nEntries for this years show close on Thursday 19th September \nAll Entries to be sent to Georgia Greenan (ggreenan@ihfa.ie)\, IHFA Office\, Ballymacowen\, Clonakilty\, Co.Cork \nPrize Schedule for the 2024 Show can be found by clicking here \nYou can Download Cattle Entry Forms here \nYou can Download Handler Entry Forms here \nAn Exhibitors Agreement Form must be submitted along with all entries\, you can download a copy of it here
URL:https://www.ihfa.ie/events-cal/national-dairy-show-2024/
ATTACH;FMTTYPE=image/jpeg:https://www.ihfa.ie/wp-content/uploads/2024/01/IMG_3289-1-e1725441088309.jpg
END:VEVENT
BEGIN:VEVENT
DTSTART;VALUE=DATE:20240921
DTEND;VALUE=DATE:20240922
DTSTAMP:20260423T065000
CREATED:20240909T110314Z
LAST-MODIFIED:20240909T110314Z
UID:10574-1726876800-1726963199@www.ihfa.ie
SUMMARY:Proven Protein Sale
DESCRIPTION:Radney & Ballymartin are back with their Annual Proven Protein Sale being held on Saturday 21st September in Kanturk Livestock Centre.\n\nYou can download the catalogue using the link below:\n\n\nProven Protein Sale Catalogue 2024
URL:https://www.ihfa.ie/events-cal/proven-protein-sale/
ATTACH;FMTTYPE=image/jpeg:https://www.ihfa.ie/wp-content/uploads/2024/09/The-Proven-Protein-Sale-2024-scaled.jpg
END:VEVENT
BEGIN:VEVENT
DTSTART;TZID=UTC:20240912T113000
DTEND;TZID=UTC:20240912T160000
DTSTAMP:20260423T065000
CREATED:20240801T104055Z
LAST-MODIFIED:20240801T104111Z
UID:10522-1726140600-1726156800@www.ihfa.ie
SUMMARY:Focus Farm Open Day - Joe Healy\, Copperbeech
DESCRIPTION:The IHFA are delighted to host a Farm Walk on the farm of Joe Healy\, Copperbeech Herd\, Athboy\, Co. Meath on Thursday 12th September 2024 in celebration of the 6 Focus Farms IHFA have profiled and featured across our channels and publications this year.\nThe Focus Farm project was designed to highlight the diverse farmers that make up the IHFA and celebrate their excellent herds and ways of farming. The farms range from 60 cows to 180 with production from 5\,000 litres to 10\,000 litres\, and vary from Holstein Friesian to Pure Friesian herds. Through grading up\, any milk recording herd can achieve pedigree status which is a huge benefit for genetic gain and optimising your herd.
URL:https://www.ihfa.ie/events-cal/focus-farm-open-day-joe-healy-copperbeech/
ATTACH;FMTTYPE=image/jpeg:https://www.ihfa.ie/wp-content/uploads/2024/08/1716227131603-scaled.jpg
END:VEVENT
BEGIN:VEVENT
DTSTART;TZID=UTC:20240829T113000
DTEND;TZID=UTC:20240829T160000
DTSTAMP:20260423T065000
CREATED:20240801T102006Z
LAST-MODIFIED:20240801T104143Z
UID:10518-1724931000-1724947200@www.ihfa.ie
SUMMARY:Focus Farm Open Day - Edward Fitzgerald\, Toberfort
DESCRIPTION:The IHFA are delighted to host a Farm Walk on the farm of Edward Fitzgerald\, Toberfort Herd\, Effin\, Co. Limerick on Thursday 29th August 2024 in celebration of the 6 Focus Farms IHFA have profiled and featured across our channels and publications this year.\nThe Focus Farm project was designed to highlight the diverse farmers that make up the IHFA and celebrate their excellent herds and ways of farming. The farms range from 60 cows to 180 with production from 5\,000 litres to 10\,000 litres\, and vary from Holstein Friesian to Pure Friesian herds. Through grading up\, any milk recording herd can achieve pedigree status which is a huge benefit for genetic gain and optimising your herd.
URL:https://www.ihfa.ie/events-cal/focus-farm-open-day-edward-fitzgerald-toberfort/
ATTACH;FMTTYPE=image/jpeg:https://www.ihfa.ie/wp-content/uploads/2024/08/WhatsApp-Image-2024-05-27-at-18.48.31.jpeg
END:VEVENT
BEGIN:VEVENT
DTSTART;VALUE=DATE:20240821
DTEND;VALUE=DATE:20240822
DTSTAMP:20260423T065000
CREATED:20240730T090142Z
LAST-MODIFIED:20240730T090857Z
UID:10511-1724198400-1724284799@www.ihfa.ie
SUMMARY:Baileys Champion Dairy Cow 2024
DESCRIPTION:2024 Virginia Show Wednesday 21st August\n\n\nCompetition entries can be submitted online via the new online form \n\n\nhttps://www.virginiashow.com/baileys-cow\n\n\nBreeders can also contact Patrick Gaynor on 087-2898707
URL:https://www.ihfa.ie/events-cal/baileys-champion-dairy-cow/
ATTACH;FMTTYPE=image/jpeg:https://www.ihfa.ie/wp-content/uploads/2024/07/450078170_780984280909902_6663057531549676751_n.jpeg
END:VEVENT
BEGIN:VEVENT
DTSTART;VALUE=DATE:20240811
DTEND;VALUE=DATE:20240812
DTSTAMP:20260423T065000
CREATED:20240327T165029Z
LAST-MODIFIED:20240327T165050Z
UID:9899-1723334400-1723420799@www.ihfa.ie
SUMMARY:Tullamore Show 2024
DESCRIPTION:The Tullamore Show will take place on Sunday 11th August 2024
URL:https://www.ihfa.ie/events-cal/tullamore-show-2024/
ATTACH;FMTTYPE=image/jpeg:https://www.ihfa.ie/wp-content/uploads/2023/08/1-117-scaled.jpg
END:VEVENT
BEGIN:VEVENT
DTSTART;VALUE=DATE:20240723
DTEND;VALUE=DATE:20240725
DTSTAMP:20260423T065000
CREATED:20240327T163832Z
LAST-MODIFIED:20240327T163832Z
UID:9897-1721692800-1721865599@www.ihfa.ie
SUMMARY:National YMA Calf Show
DESCRIPTION:The National YMA Calf Show will take place at\nThe Hub\, Kilkenny on July 23rd & 24th 2024
URL:https://www.ihfa.ie/events-cal/national-yma-calf-show/
ATTACH;FMTTYPE=image/jpeg:https://www.ihfa.ie/wp-content/uploads/2023/07/IMG_7598-scaled.jpg
END:VEVENT
BEGIN:VEVENT
DTSTART;VALUE=DATE:20240718
DTEND;VALUE=DATE:20240719
DTSTAMP:20260423T065000
CREATED:20240510T113517Z
LAST-MODIFIED:20240510T113517Z
UID:10066-1721260800-1721347199@www.ihfa.ie
SUMMARY:LAOIS/OFFALY FIELD EVENING
DESCRIPTION:Laois/Offaly Field Evening on the farm of Michael & Trevor Harte\, Daingean\, Co. Offaly\, R35 XW31
URL:https://www.ihfa.ie/events-cal/laois-offaly-field-evening-4/
END:VEVENT
BEGIN:VEVENT
DTSTART;VALUE=DATE:20240711
DTEND;VALUE=DATE:20240712
DTSTAMP:20260423T065000
CREATED:20240510T115212Z
LAST-MODIFIED:20240510T115212Z
UID:10080-1720656000-1720742399@www.ihfa.ie
SUMMARY:BANNOW RATHANGAN SHOW
DESCRIPTION:Bannow & Rathangan Show will be held on the 11th of July. For more information please see www.bannowrathanganshow.com
URL:https://www.ihfa.ie/events-cal/bannow-rathangan-show/
END:VEVENT
BEGIN:VEVENT
DTSTART;VALUE=DATE:20240710
DTEND;VALUE=DATE:20240711
DTSTAMP:20260423T065000
CREATED:20240320T092616Z
LAST-MODIFIED:20240617T095412Z
UID:9862-1720569600-1720655999@www.ihfa.ie
SUMMARY:IHFA National Open Day 2024
DESCRIPTION:The IHFA National Open Day is to be held at the Dondale Herd of Joseph and Kevin Doran\, Donadea\, Naas\, Co.Kildare on July 10th 2024. \n  \nApplications are now OPEN for trade stands/sponsorsorship\, the form can be found here. All trade stand forms must be returned with a letter of indemnity from insurance company (can be found here)\, to Ciara O’Mahony\, comahony@ihfa.ie or the IHFA Office by the 5th of June
URL:https://www.ihfa.ie/events-cal/ihfa-national-open-day-2024/
ATTACH;FMTTYPE=image/jpeg:https://www.ihfa.ie/wp-content/uploads/2024/03/IMG_6635-1.jpg
END:VEVENT
BEGIN:VEVENT
DTSTART;VALUE=DATE:20240706
DTEND;VALUE=DATE:20240707
DTSTAMP:20260423T065000
CREATED:20240510T123351Z
LAST-MODIFIED:20240510T123351Z
UID:10086-1720224000-1720310399@www.ihfa.ie
SUMMARY:BREFFNI ORIEL CALF SHOW
DESCRIPTION:Breffni Oriel Calf Show will take place on July 6th in Mullaghmore Equestrian Centre\, Tydavnet\, Co. Monaghan
URL:https://www.ihfa.ie/events-cal/breffni-oriel-calf-show/
END:VEVENT
BEGIN:VEVENT
DTSTART;VALUE=DATE:20240706
DTEND;VALUE=DATE:20240707
DTSTAMP:20260423T065000
CREATED:20240510T123147Z
LAST-MODIFIED:20240510T123147Z
UID:10084-1720224000-1720310399@www.ihfa.ie
SUMMARY:KERRY CALF SHOW
DESCRIPTION:Kerry Calf Show will take place on the 6th of July in Barrons Agri.\, Causeway\, Co. Kerry
URL:https://www.ihfa.ie/events-cal/kerry-calf-show/
END:VEVENT
BEGIN:VEVENT
DTSTART;VALUE=DATE:20240706
DTEND;VALUE=DATE:20240707
DTSTAMP:20260423T065000
CREATED:20240510T114924Z
LAST-MODIFIED:20240510T114924Z
UID:10078-1720224000-1720310399@www.ihfa.ie
SUMMARY:SLANEY CALF SHOW
DESCRIPTION:Slaney Calf Show will be held on the 6th of July in Clough\, Gorey\, Co. Wexford
URL:https://www.ihfa.ie/events-cal/slaney-calf-show/
END:VEVENT
BEGIN:VEVENT
DTSTART;VALUE=DATE:20240706
DTEND;VALUE=DATE:20240707
DTSTAMP:20260423T065000
CREATED:20240510T113558Z
LAST-MODIFIED:20240617T101940Z
UID:10068-1720224000-1720310399@www.ihfa.ie
SUMMARY:LAOIS/OFFALY CALF SHOW
DESCRIPTION:Laois/Offaly Calf Show on the 6th of July in Tullamore Mart
URL:https://www.ihfa.ie/events-cal/laois-offaly-calf-show/
END:VEVENT
BEGIN:VEVENT
DTSTART;VALUE=DATE:20240705
DTEND;VALUE=DATE:20240706
DTSTAMP:20260423T065000
CREATED:20240528T144935Z
LAST-MODIFIED:20240528T144935Z
UID:10113-1720137600-1720223999@www.ihfa.ie
SUMMARY:NORTH EASTERN FIELD EVENING
DESCRIPTION:North Eastern Field Evening on the farm of Leo & Bernadette Nulty\, Bryanstown\, Slane\, Co. Meath
URL:https://www.ihfa.ie/events-cal/north-eastern-field-evening-3/
END:VEVENT
BEGIN:VEVENT
DTSTART;VALUE=DATE:20240704
DTEND;VALUE=DATE:20240705
DTSTAMP:20260423T065000
CREATED:20240510T114404Z
LAST-MODIFIED:20240702T154943Z
UID:10072-1720051200-1720137599@www.ihfa.ie
SUMMARY:CORK FIELD EVENING
DESCRIPTION:Field evening and stock judging in conjunction with Cork YMA on the farm of Richard & Mervyn Helen\, Kilgariffe\, Clonakilty\, P85 ED96
URL:https://www.ihfa.ie/events-cal/cork-field-evening/
END:VEVENT
BEGIN:VEVENT
DTSTART;VALUE=DATE:20240703
DTEND;VALUE=DATE:20240704
DTSTAMP:20260423T065000
CREATED:20240510T114745Z
LAST-MODIFIED:20240510T114805Z
UID:10076-1719964800-1720051199@www.ihfa.ie
SUMMARY:SLANEY CLUB WORKSHOP
DESCRIPTION:Calf workshop to be held on the farm of Garry & Izzy Jones\, Moneylawn\, Clough\, Gorey\, Co. Wexford\, Y25 C625
URL:https://www.ihfa.ie/events-cal/slaney-club-workshop/
END:VEVENT
BEGIN:VEVENT
DTSTART;VALUE=DATE:20240701
DTEND;VALUE=DATE:20240702
DTSTAMP:20260423T065000
CREATED:20240510T123735Z
LAST-MODIFIED:20240510T125038Z
UID:10088-1719792000-1719878399@www.ihfa.ie
SUMMARY:CORK CALF SHOW
DESCRIPTION:Cork Calf Show will be held on Monday the 1st of July in Greybrook Equestrian Centre\, Kilbrittan\, Bandon\, Co. Cork
URL:https://www.ihfa.ie/events-cal/cork-calf-show/
END:VEVENT
BEGIN:VEVENT
DTSTART;VALUE=DATE:20240628
DTEND;VALUE=DATE:20240629
DTSTAMP:20260423T065000
CREATED:20240510T113753Z
LAST-MODIFIED:20240510T113753Z
UID:10070-1719532800-1719619199@www.ihfa.ie
SUMMARY:KERRY FIELD EVENING
DESCRIPTION:Field evening on the farm of Kieran Savage\, Kielduff\, Tralee\, Co. Kerry\, V92 C8XN
URL:https://www.ihfa.ie/events-cal/kerry-field-evening/
END:VEVENT
BEGIN:VEVENT
DTSTART;VALUE=DATE:20240627
DTEND;VALUE=DATE:20240628
DTSTAMP:20260423T065000
CREATED:20240510T114535Z
LAST-MODIFIED:20240510T114535Z
UID:10074-1719446400-1719532799@www.ihfa.ie
SUMMARY:SLANEY FIELD EVENING
DESCRIPTION:Field evening to be held on the farm of Pat Fleming\, Kilanerin\, Gorey\, Co. Wexford\, Y25 TN12
URL:https://www.ihfa.ie/events-cal/slaney-field-evening/
END:VEVENT
BEGIN:VEVENT
DTSTART;VALUE=DATE:20240627
DTEND;VALUE=DATE:20240628
DTSTAMP:20260423T065000
CREATED:20240320T093218Z
LAST-MODIFIED:20240617T093201Z
UID:9864-1719446400-1719532799@www.ihfa.ie
SUMMARY:Pure Friesian Open Day 2024
DESCRIPTION:The Pure Friesian Open Day will be held at the Carrickshock Herd of Pat Cleary\, Hugginstown\, Co. Kilkenny\, on June 27th 2024 \nApplications are now OPEN for trade stands/sponsorship\, the form can be found here. All trade stand forms must be returned with a letter of indemnity from insurance company (can be found here)\, to Ciara O’Mahony\, comahony@ihfa.ie or the IHFA Office by the 31st of May
URL:https://www.ihfa.ie/events-cal/pure-friesian-open-day-2024/
ATTACH;FMTTYPE=image/jpeg:https://www.ihfa.ie/wp-content/uploads/2024/03/IMG_5472.jpg
END:VEVENT
BEGIN:VEVENT
DTSTART;VALUE=DATE:20240626
DTEND;VALUE=DATE:20240627
DTSTAMP:20260423T065000
CREATED:20240510T113354Z
LAST-MODIFIED:20240510T113354Z
UID:10064-1719360000-1719446399@www.ihfa.ie
SUMMARY:LAOIS/OFFALY FIELD EVENING
DESCRIPTION:Laois/Offaly Field Evening on the farm of Trevor & David Bennett\, Abbeyleix\, Co. Laois\, R32 D328
URL:https://www.ihfa.ie/events-cal/laois-offaly-field-evening-3/
END:VEVENT
BEGIN:VEVENT
DTSTART;TZID=UTC:20240621T193000
DTEND;TZID=UTC:20240621T223000
DTSTAMP:20260423T065000
CREATED:20240619T093424Z
LAST-MODIFIED:20240619T093424Z
UID:10133-1718998200-1719009000@www.ihfa.ie
SUMMARY:Limerick Clare Field Evening
DESCRIPTION:David Burkes\, Newtownshandrum\, Friday June 21st from 7.30pm. Eircode P56 HK11.
URL:https://www.ihfa.ie/events-cal/limerick-clare-field-evening-2/
END:VEVENT
BEGIN:VEVENT
DTSTART;VALUE=DATE:20240621
DTEND;VALUE=DATE:20240622
DTSTAMP:20260423T065000
CREATED:20240529T104037Z
LAST-MODIFIED:20240605T105852Z
UID:10115-1718928000-1719014399@www.ihfa.ie
SUMMARY:TIPPERARY/WATERFORD FIELD EVENING
DESCRIPTION:Tipperary/Waterford Field Evening on the 21st of June on the farm of Philip Cusack\, Gortahilla\, Dunmore East\, Co. Waterford
URL:https://www.ihfa.ie/events-cal/tipperary-waterford-field-evening-3/
END:VEVENT
BEGIN:VEVENT
DTSTART;VALUE=DATE:20240620
DTEND;VALUE=DATE:20240621
DTSTAMP:20260423T065000
CREATED:20240617T101653Z
LAST-MODIFIED:20240617T101653Z
UID:10126-1718841600-1718927999@www.ihfa.ie
SUMMARY:SLANEY FIELD EVENING
DESCRIPTION:Slaney Field Evening on the farm of Seamus & Bridget O’Leary and family\, Coolnagree Herd\, Tomfarney\, Adamstown\, Enniscorthy\, Co. Wexford Y21 W527 from 7pm
URL:https://www.ihfa.ie/events-cal/slaney-field-evening-2/
END:VEVENT
END:VCALENDAR