BEGIN:VCALENDAR
VERSION:2.0
PRODID:-//IHFA - ECPv6.15.20//NONSGML v1.0//EN
CALSCALE:GREGORIAN
METHOD:PUBLISH
X-WR-CALNAME:IHFA
X-ORIGINAL-URL:https://www.ihfa.ie
X-WR-CALDESC:Events for IHFA
REFRESH-INTERVAL;VALUE=DURATION:PT1H
X-Robots-Tag:noindex
X-PUBLISHED-TTL:PT1H
BEGIN:VTIMEZONE
TZID:UTC
BEGIN:STANDARD
TZOFFSETFROM:+0000
TZOFFSETTO:+0000
TZNAME:UTC
DTSTART:20230101T000000
END:STANDARD
END:VTIMEZONE
BEGIN:VEVENT
DTSTART;VALUE=DATE:20240706
DTEND;VALUE=DATE:20240707
DTSTAMP:20260423T113449
CREATED:20240510T113558Z
LAST-MODIFIED:20240617T101940Z
UID:10068-1720224000-1720310399@www.ihfa.ie
SUMMARY:LAOIS/OFFALY CALF SHOW
DESCRIPTION:Laois/Offaly Calf Show on the 6th of July in Tullamore Mart
URL:https://www.ihfa.ie/events-cal/laois-offaly-calf-show/
END:VEVENT
BEGIN:VEVENT
DTSTART;VALUE=DATE:20240705
DTEND;VALUE=DATE:20240706
DTSTAMP:20260423T113449
CREATED:20240528T144935Z
LAST-MODIFIED:20240528T144935Z
UID:10113-1720137600-1720223999@www.ihfa.ie
SUMMARY:NORTH EASTERN FIELD EVENING
DESCRIPTION:North Eastern Field Evening on the farm of Leo & Bernadette Nulty\, Bryanstown\, Slane\, Co. Meath
URL:https://www.ihfa.ie/events-cal/north-eastern-field-evening-3/
END:VEVENT
BEGIN:VEVENT
DTSTART;VALUE=DATE:20240704
DTEND;VALUE=DATE:20240705
DTSTAMP:20260423T113449
CREATED:20240510T114404Z
LAST-MODIFIED:20240702T154943Z
UID:10072-1720051200-1720137599@www.ihfa.ie
SUMMARY:CORK FIELD EVENING
DESCRIPTION:Field evening and stock judging in conjunction with Cork YMA on the farm of Richard & Mervyn Helen\, Kilgariffe\, Clonakilty\, P85 ED96
URL:https://www.ihfa.ie/events-cal/cork-field-evening/
END:VEVENT
BEGIN:VEVENT
DTSTART;VALUE=DATE:20240703
DTEND;VALUE=DATE:20240704
DTSTAMP:20260423T113449
CREATED:20240510T114745Z
LAST-MODIFIED:20240510T114805Z
UID:10076-1719964800-1720051199@www.ihfa.ie
SUMMARY:SLANEY CLUB WORKSHOP
DESCRIPTION:Calf workshop to be held on the farm of Garry & Izzy Jones\, Moneylawn\, Clough\, Gorey\, Co. Wexford\, Y25 C625
URL:https://www.ihfa.ie/events-cal/slaney-club-workshop/
END:VEVENT
BEGIN:VEVENT
DTSTART;VALUE=DATE:20240701
DTEND;VALUE=DATE:20240702
DTSTAMP:20260423T113449
CREATED:20240510T123735Z
LAST-MODIFIED:20240510T125038Z
UID:10088-1719792000-1719878399@www.ihfa.ie
SUMMARY:CORK CALF SHOW
DESCRIPTION:Cork Calf Show will be held on Monday the 1st of July in Greybrook Equestrian Centre\, Kilbrittan\, Bandon\, Co. Cork
URL:https://www.ihfa.ie/events-cal/cork-calf-show/
END:VEVENT
BEGIN:VEVENT
DTSTART;VALUE=DATE:20240628
DTEND;VALUE=DATE:20240629
DTSTAMP:20260423T113449
CREATED:20240510T113753Z
LAST-MODIFIED:20240510T113753Z
UID:10070-1719532800-1719619199@www.ihfa.ie
SUMMARY:KERRY FIELD EVENING
DESCRIPTION:Field evening on the farm of Kieran Savage\, Kielduff\, Tralee\, Co. Kerry\, V92 C8XN
URL:https://www.ihfa.ie/events-cal/kerry-field-evening/
END:VEVENT
BEGIN:VEVENT
DTSTART;VALUE=DATE:20240627
DTEND;VALUE=DATE:20240628
DTSTAMP:20260423T113449
CREATED:20240510T114535Z
LAST-MODIFIED:20240510T114535Z
UID:10074-1719446400-1719532799@www.ihfa.ie
SUMMARY:SLANEY FIELD EVENING
DESCRIPTION:Field evening to be held on the farm of Pat Fleming\, Kilanerin\, Gorey\, Co. Wexford\, Y25 TN12
URL:https://www.ihfa.ie/events-cal/slaney-field-evening/
END:VEVENT
BEGIN:VEVENT
DTSTART;VALUE=DATE:20240627
DTEND;VALUE=DATE:20240628
DTSTAMP:20260423T113449
CREATED:20240320T093218Z
LAST-MODIFIED:20240617T093201Z
UID:9864-1719446400-1719532799@www.ihfa.ie
SUMMARY:Pure Friesian Open Day 2024
DESCRIPTION:The Pure Friesian Open Day will be held at the Carrickshock Herd of Pat Cleary\, Hugginstown\, Co. Kilkenny\, on June 27th 2024 \nApplications are now OPEN for trade stands/sponsorship\, the form can be found here. All trade stand forms must be returned with a letter of indemnity from insurance company (can be found here)\, to Ciara O’Mahony\, comahony@ihfa.ie or the IHFA Office by the 31st of May
URL:https://www.ihfa.ie/events-cal/pure-friesian-open-day-2024/
ATTACH;FMTTYPE=image/jpeg:https://www.ihfa.ie/wp-content/uploads/2024/03/IMG_5472.jpg
END:VEVENT
BEGIN:VEVENT
DTSTART;VALUE=DATE:20240626
DTEND;VALUE=DATE:20240627
DTSTAMP:20260423T113449
CREATED:20240510T113354Z
LAST-MODIFIED:20240510T113354Z
UID:10064-1719360000-1719446399@www.ihfa.ie
SUMMARY:LAOIS/OFFALY FIELD EVENING
DESCRIPTION:Laois/Offaly Field Evening on the farm of Trevor & David Bennett\, Abbeyleix\, Co. Laois\, R32 D328
URL:https://www.ihfa.ie/events-cal/laois-offaly-field-evening-3/
END:VEVENT
BEGIN:VEVENT
DTSTART;TZID=UTC:20240621T193000
DTEND;TZID=UTC:20240621T223000
DTSTAMP:20260423T113449
CREATED:20240619T093424Z
LAST-MODIFIED:20240619T093424Z
UID:10133-1718998200-1719009000@www.ihfa.ie
SUMMARY:Limerick Clare Field Evening
DESCRIPTION:David Burkes\, Newtownshandrum\, Friday June 21st from 7.30pm. Eircode P56 HK11.
URL:https://www.ihfa.ie/events-cal/limerick-clare-field-evening-2/
END:VEVENT
BEGIN:VEVENT
DTSTART;VALUE=DATE:20240621
DTEND;VALUE=DATE:20240622
DTSTAMP:20260423T113449
CREATED:20240529T104037Z
LAST-MODIFIED:20240605T105852Z
UID:10115-1718928000-1719014399@www.ihfa.ie
SUMMARY:TIPPERARY/WATERFORD FIELD EVENING
DESCRIPTION:Tipperary/Waterford Field Evening on the 21st of June on the farm of Philip Cusack\, Gortahilla\, Dunmore East\, Co. Waterford
URL:https://www.ihfa.ie/events-cal/tipperary-waterford-field-evening-3/
END:VEVENT
BEGIN:VEVENT
DTSTART;VALUE=DATE:20240620
DTEND;VALUE=DATE:20240621
DTSTAMP:20260423T113449
CREATED:20240617T101653Z
LAST-MODIFIED:20240617T101653Z
UID:10126-1718841600-1718927999@www.ihfa.ie
SUMMARY:SLANEY FIELD EVENING
DESCRIPTION:Slaney Field Evening on the farm of Seamus & Bridget O’Leary and family\, Coolnagree Herd\, Tomfarney\, Adamstown\, Enniscorthy\, Co. Wexford Y21 W527 from 7pm
URL:https://www.ihfa.ie/events-cal/slaney-field-evening-2/
END:VEVENT
BEGIN:VEVENT
DTSTART;TZID=UTC:20240617T080000
DTEND;TZID=UTC:20240617T170000
DTSTAMP:20260423T113449
CREATED:20240617T102907Z
LAST-MODIFIED:20240617T102907Z
UID:10130-1718611200-1718643600@www.ihfa.ie
SUMMARY:LIMERICK/CLARE CALF SHOW
DESCRIPTION:Limerick/Clare Calf Show held in Charleville Showgrounds on the 6thof July
URL:https://www.ihfa.ie/events-cal/limerick-clare-calf-show-2/
END:VEVENT
BEGIN:VEVENT
DTSTART;VALUE=DATE:20240614
DTEND;VALUE=DATE:20240615
DTSTAMP:20260423T113449
CREATED:20240529T104239Z
LAST-MODIFIED:20240613T123155Z
UID:10117-1718323200-1718409599@www.ihfa.ie
SUMMARY:TIPPERARY/WATERFORD FIELD EVENING
DESCRIPTION:Tipperary/Waterford Field Evening on the farm of Richard Kingston\, Kilross\, Co. Tipperary\, E34 VK25 on the 13th of June
URL:https://www.ihfa.ie/events-cal/tipperary-waterford-field-evening-4/
END:VEVENT
BEGIN:VEVENT
DTSTART;VALUE=DATE:20240614
DTEND;VALUE=DATE:20240615
DTSTAMP:20260423T113449
CREATED:20240528T144753Z
LAST-MODIFIED:20240528T144753Z
UID:10111-1718323200-1718409599@www.ihfa.ie
SUMMARY:NORTH EASTERN FIELD EVENING
DESCRIPTION:North Eastern Field Evening on the farm of Joe Healy\, Dressogue\, Athboy\, Co. Meath
URL:https://www.ihfa.ie/events-cal/north-eastern-field-evening-2/
END:VEVENT
BEGIN:VEVENT
DTSTART;VALUE=DATE:20240613
DTEND;VALUE=DATE:20240614
DTSTAMP:20260423T113449
CREATED:20240528T144632Z
LAST-MODIFIED:20240528T144632Z
UID:10109-1718236800-1718323199@www.ihfa.ie
SUMMARY:CORK FIELD EVENING
DESCRIPTION:Cork Field Evening held on the farm of Buckleys\, Ballinahina\, T23 E167
URL:https://www.ihfa.ie/events-cal/cork-field-evening-2/
END:VEVENT
BEGIN:VEVENT
DTSTART;VALUE=DATE:20240604
DTEND;VALUE=DATE:20240605
DTSTAMP:20260423T113449
CREATED:20240510T113231Z
LAST-MODIFIED:20240510T113231Z
UID:10062-1717459200-1717545599@www.ihfa.ie
SUMMARY:LAOIS/OFFALY FIELD EVENING
DESCRIPTION:Laois/Offaly Field Evening on the farm of Kevin Flynn\, Clonaslee\, Co. Laois\, R32 V5R7
URL:https://www.ihfa.ie/events-cal/laois-offaly-field-evening-2/
END:VEVENT
BEGIN:VEVENT
DTSTART;TZID=UTC:20240508T190000
DTEND;TZID=UTC:20240508T220000
DTSTAMP:20260423T113449
CREATED:20240327T165404Z
LAST-MODIFIED:20240327T165404Z
UID:9901-1715194800-1715205600@www.ihfa.ie
SUMMARY:IHFA AGM 2024
DESCRIPTION:The IHFA AGM will be held in the Clayton Hotel Silversprings\, Tivoli\, Cork T23 E244 Cork on at 7pm on Wednesday 8thMay 2024. The AGM will be preceded by an EGM.=
URL:https://www.ihfa.ie/events-cal/ihfa-agm-2024/
ATTACH;FMTTYPE=image/jpeg:https://www.ihfa.ie/wp-content/uploads/2021/08/IMG_7627.jpg
END:VEVENT
BEGIN:VEVENT
DTSTART;VALUE=DATE:20240427
DTEND;VALUE=DATE:20240428
DTSTAMP:20260423T113449
CREATED:20240305T095700Z
LAST-MODIFIED:20240320T091321Z
UID:9810-1714176000-1714262399@www.ihfa.ie
SUMMARY:Emerald Expo 2024
DESCRIPTION:Emerald Expo 2024 will be held at the Virginia Show Centre on April 27th. \nThe full prize schedule can be found here \nEntry Forms can be found here
URL:https://www.ihfa.ie/events-cal/emerald-expo-2024/
LOCATION:Virginia Showgrounds
ATTACH;FMTTYPE=image/jpeg:https://www.ihfa.ie/wp-content/uploads/2023/05/101_4936-scaled.jpg
END:VEVENT
BEGIN:VEVENT
DTSTART;TZID=UTC:20240426T120000
DTEND;TZID=UTC:20240429T190000
DTSTAMP:20260423T113449
CREATED:20240425T081720Z
LAST-MODIFIED:20240425T082440Z
UID:10016-1714132800-1714417200@www.ihfa.ie
SUMMARY:Emerald Expo Elite Online Sale 2024
DESCRIPTION:Welcome to the inaugural Emerald Expo Elite Online Sale\, we’re excited to present this catalogue of specially selected heifers and embryos. We would like to thank our cosigners for offering these exceptional lots and the Emerald Expo show committee for their support in the sale.  \nSale Details \nThe sale will take place Online by Timed Auction at Marteye Denis Barrett.  \nYou must register to bid at Marteye Denis Barrett. \nThe sale will open Friday 26th April 12 noon & close Monday 29th April 7pm in lot order. \nPlease note not all live lots will be available to view at the Emerald Expo Show. \nExport can be arranged for all live lots.  \n5% Buyers Commission on the Hammer Price of each lot purchased. \nPlease contact info@denisbarrett.com or +353 (0) 212455310 with any bidding online queries.
URL:https://www.ihfa.ie/events-cal/emerald-expo-elite-online-sale/
ATTACH;FMTTYPE=image/jpeg:https://www.ihfa.ie/wp-content/uploads/2024/04/Ms-Beautys-Black-Velvet-ET.jpeg
END:VEVENT
BEGIN:VEVENT
DTSTART;TZID=UTC:20240420T120000
DTEND;TZID=UTC:20240420T170000
DTSTAMP:20260423T113449
CREATED:20240419T081732Z
LAST-MODIFIED:20240419T081732Z
UID:9994-1713614400-1713632400@www.ihfa.ie
SUMMARY:KILGARRIFFE Sale
DESCRIPTION:Kilgarriffe Sale\, Saturday 20th April At Kilgarriffe\, Clonakilty P85 V567 for Richard & Mervyn Helen (086-8393116). Sale commences at 12 noon. Online bidding available (LSL Taaffe Auctions) \nCatalogue available HERE
URL:https://www.ihfa.ie/events-cal/kilgarriffe-sale-2/
ATTACH;FMTTYPE=image/jpeg:https://www.ihfa.ie/wp-content/uploads/2024/04/437121724_929650435624501_4282639507376500739_n.jpeg
END:VEVENT
BEGIN:VEVENT
DTSTART;TZID=UTC:20240420T120000
DTEND;TZID=UTC:20240420T150000
DTSTAMP:20260423T113449
CREATED:20240419T081331Z
LAST-MODIFIED:20240419T081331Z
UID:9991-1713614400-1713625200@www.ihfa.ie
SUMMARY:CASTLEDON Dispersal Sale
DESCRIPTION:Castledon Dispersal Sale (Jim Donovan)\, Kanturk Mart\, Saturday 20th April at 12pm. 80 Head Sell.
URL:https://www.ihfa.ie/events-cal/castledon-dispersal-sale/
ATTACH;FMTTYPE=image/jpeg:https://www.ihfa.ie/wp-content/uploads/2024/04/Kanturk-Cop-Mart-1170x780-1.jpeg
END:VEVENT
BEGIN:VEVENT
DTSTART;TZID=UTC:20240417T113000
DTEND;TZID=UTC:20240417T170000
DTSTAMP:20260423T113449
CREATED:20240405T083436Z
LAST-MODIFIED:20240405T084731Z
UID:9982-1713353400-1713373200@www.ihfa.ie
SUMMARY:Kerry Holstein Friesian Breeders Bull Sale 2024
DESCRIPTION:The Kerry Holstein Friesian Breeders Bull Sale will be held on Wednesday 17th April at Gortatlea Mart
URL:https://www.ihfa.ie/events-cal/kerry-holstein-friesian-breeders-bull-sale/
ATTACH;FMTTYPE=image/jpeg:https://www.ihfa.ie/wp-content/uploads/2024/04/31747864_765970130265517_5304862940791308288_n.jpeg
END:VEVENT
BEGIN:VEVENT
DTSTART;TZID=UTC:20240406T113000
DTEND;TZID=UTC:20240406T170000
DTSTAMP:20260423T113449
CREATED:20240403T110543Z
LAST-MODIFIED:20240404T142331Z
UID:9932-1712403000-1712422800@www.ihfa.ie
SUMMARY:Coolmohan Sale 2024
DESCRIPTION:COOLMOHAN SALE on farm this Saturday 6th April at 11.30am for Pat Flynn\, Araglen\, Kilworth\, Co. Cork\, P61 VF25 \nSelling 40 Fresh Calved Heifers & Cows with EBI to+306 \nplus \nSelling 15 Bulls Fit For Service with EBI to +346. \nCatalogue Available Here
URL:https://www.ihfa.ie/events-cal/coolmohan-sale-2024/
ATTACH;FMTTYPE=image/jpeg:https://www.ihfa.ie/wp-content/uploads/2024/04/420234193_920231083233103_6795854600388327669_n.jpeg
END:VEVENT
BEGIN:VEVENT
DTSTART;VALUE=DATE:20240404
DTEND;VALUE=DATE:20240405
DTSTAMP:20260423T113449
CREATED:20240327T102202Z
LAST-MODIFIED:20240327T102202Z
UID:9884-1712188800-1712275199@www.ihfa.ie
SUMMARY:Dock Holsteins Major Reduction Sale
DESCRIPTION:Dock Holsteins (Seamus & Brian Hayes)\nMajor Herd Reduction Sale \nThursday 4th April 2024 \n@11.45 SHARP \nTHE DOCK\nKINSALE\, CO CORK \nCatalogue available HERE
URL:https://www.ihfa.ie/events-cal/dock-holsteins-major-reduction-sale/
ATTACH;FMTTYPE=image/jpeg:https://www.ihfa.ie/wp-content/uploads/2024/03/150911-05F-Dock-Fever-Marie-.jpg
END:VEVENT
BEGIN:VEVENT
DTSTART;VALUE=DATE:20240403
DTEND;VALUE=DATE:20240404
DTSTAMP:20260423T113449
CREATED:20240328T104828Z
LAST-MODIFIED:20240328T164418Z
UID:9904-1712102400-1712188799@www.ihfa.ie
SUMMARY:Cornaan Dispersal Sale
DESCRIPTION:Cornaan Dispersal Sale\nDorothy and Mervyn Fairbrother\nCarnew Mart\nWednesday 3rd April
URL:https://www.ihfa.ie/events-cal/cornaan-dispersal-sale/
ATTACH;FMTTYPE=image/jpeg:https://www.ihfa.ie/wp-content/uploads/2024/03/421082060_930478399078455_4110754601414020042_n-e1711622895230.jpeg
END:VEVENT
BEGIN:VEVENT
DTSTART;VALUE=DATE:20240403
DTEND;VALUE=DATE:20240404
DTSTAMP:20260423T113449
CREATED:20240216T110947Z
LAST-MODIFIED:20240320T091641Z
UID:9762-1712102400-1712188799@www.ihfa.ie
SUMMARY:Cork Club Bull Sale
DESCRIPTION:Cork Club Bull Sale\, Friday 3rd April 2024 in Bandon Mart
URL:https://www.ihfa.ie/events-cal/cork-club-bull-sale/
ATTACH;FMTTYPE=image/jpeg:https://www.ihfa.ie/wp-content/uploads/2023/01/AE31D950-AAB7-4877-A361-D8A672A3EC26-scaled.jpg
END:VEVENT
BEGIN:VEVENT
DTSTART;VALUE=DATE:20240329
DTEND;VALUE=DATE:20240330
DTSTAMP:20260423T113449
CREATED:20240216T110848Z
LAST-MODIFIED:20240320T092257Z
UID:9760-1711670400-1711756799@www.ihfa.ie
SUMMARY:Cork Club Heifer Sale
DESCRIPTION:Cork Club Heifer Sale\, Friday 29th of March 2024 in Corrin Mart
URL:https://www.ihfa.ie/events-cal/cork-club-heifer-sale/
ATTACH;FMTTYPE=image/jpeg:https://www.ihfa.ie/wp-content/uploads/2022/03/Donegal-FR-club-sale-2022_The-top-four-heifers-selected-in-the-pre-sale-Show-scaled.jpg
END:VEVENT
BEGIN:VEVENT
DTSTART;TZID=UTC:20240328T080000
DTEND;TZID=UTC:20240328T170000
DTSTAMP:20260423T113449
CREATED:20240328T105224Z
LAST-MODIFIED:20240328T113533Z
UID:9907-1711612800-1711645200@www.ihfa.ie
SUMMARY:Brownstown Dispersal Sale
DESCRIPTION:THE BROWNSTOWN DISPERSAL SALE. \nWednesday 3rd April \nAt Carnaross Mart\, Kells\, Co. Meath \nCatalogue Available Here
URL:https://www.ihfa.ie/events-cal/brownstown-dispersal-sale/
ATTACH;FMTTYPE=image/png:https://www.ihfa.ie/wp-content/uploads/2024/03/Screen-Shot-2024-03-28-at-11.32.44.png
END:VEVENT
BEGIN:VEVENT
DTSTART;VALUE=DATE:20240327
DTEND;VALUE=DATE:20240328
DTSTAMP:20260423T113449
CREATED:20240202T103448Z
LAST-MODIFIED:20240216T160332Z
UID:9712-1711497600-1711583999@www.ihfa.ie
SUMMARY:IHFA Premier Heifer Sale 2024
DESCRIPTION:Denis Barrett Auctioneers \nThe IHFA are delighted to bring the Premier Heifer Sale to Kilmallock Mart\, Co. Limerick on the 27th of March 2024. Sale will be livestreamed with online bidding facility. Entries taken by online entry form which can be found here\, with entries closing on the 13TH OF MARCH.\nSTANDARDS OF ENTRY\nDam should must be classified GP83+\nThe dam must have a minimum of 550kgs combined fat & protein (total solids in one lactation) or 450kgs as a heifer\nMust be in milk\nRecommended that heifers should be >150 EBI & Dams 3.4% protein \nHEALTH REQUIREMENTS\nAll entrants must be within 60 day TB test\nALL ANIMALS MUST BE TESTED BVD NEGATIVE (ANIMAL HEALTH IRELAND BVD PROGRAMME) \nENTRY FEE\nEntry fee €20\nEntries for heifer sale taken via online form which can be found here. ENTRIES CLOSE ON THE 13TH OF MARCH.
URL:https://www.ihfa.ie/events-cal/ihfa-premier-heifer-sale/
LOCATION:Kilmallock Mart\, Co. Limerick
ATTACH;FMTTYPE=image/jpeg:https://www.ihfa.ie/wp-content/uploads/2022/03/Donegal-FR-club-sale-2022_The-top-four-heifers-selected-in-the-pre-sale-Show-scaled.jpg
END:VEVENT
END:VCALENDAR