BEGIN:VCALENDAR
VERSION:2.0
PRODID:-//IHFA - ECPv6.15.20//NONSGML v1.0//EN
CALSCALE:GREGORIAN
METHOD:PUBLISH
X-WR-CALNAME:IHFA
X-ORIGINAL-URL:https://www.ihfa.ie
X-WR-CALDESC:Events for IHFA
REFRESH-INTERVAL;VALUE=DURATION:PT1H
X-Robots-Tag:noindex
X-PUBLISHED-TTL:PT1H
BEGIN:VTIMEZONE
TZID:UTC
BEGIN:STANDARD
TZOFFSETFROM:+0000
TZOFFSETTO:+0000
TZNAME:UTC
DTSTART:20220101T000000
END:STANDARD
END:VTIMEZONE
BEGIN:VEVENT
DTSTART;TZID=UTC:20230620T080000
DTEND;TZID=UTC:20230622T170000
DTSTAMP:20260424T075704
CREATED:20230526T145640Z
LAST-MODIFIED:20230526T145640Z
UID:8928-1687248000-1687453200@www.ihfa.ie
SUMMARY:Tipperary/ Waterford Herds Competition
DESCRIPTION:Herds Competition Judging for 3 days
URL:https://www.ihfa.ie/events-cal/tipperary-waterford-herds-competition/
END:VEVENT
BEGIN:VEVENT
DTSTART;TZID=UTC:20230616T193000
DTEND;TZID=UTC:20230616T233000
DTSTAMP:20260424T075704
CREATED:20230607T080556Z
LAST-MODIFIED:20230607T080556Z
UID:8969-1686943800-1686958200@www.ihfa.ie
SUMMARY:Breffni Oriel Field Evening & Herds Competition Prize Giving
DESCRIPTION:Breffni Oriel will hold their first Field Evening of 2023 on the farm of David Boyd & Trevor Keith\, Glaslough Holsteins\, Glaslough\, Co.Monaghan followed by a Prize Giving for their Herds Competition. 7.30pm Start.
URL:https://www.ihfa.ie/events-cal/breffni-oriel-field-evening-herds-competition-prize-giving/
END:VEVENT
BEGIN:VEVENT
DTSTART;TZID=UTC:20230616T190000
DTEND;TZID=UTC:20230616T220000
DTSTAMP:20260424T075704
CREATED:20230526T145239Z
LAST-MODIFIED:20230606T214401Z
UID:8924-1686942000-1686952800@www.ihfa.ie
SUMMARY:Tipperary / Waterford Field Evening
DESCRIPTION:Hosted by Richard Drohan\, Suirvalley Herd\, Feddans Rathgormack Co Waterford E32 K234 on Friday 16th June.
URL:https://www.ihfa.ie/events-cal/tipperary-waterford-field-evening/
END:VEVENT
BEGIN:VEVENT
DTSTART;TZID=UTC:20230615T190000
DTEND;TZID=UTC:20230615T220000
DTSTAMP:20260424T075704
CREATED:20230526T120810Z
LAST-MODIFIED:20230606T121401Z
UID:8900-1686855600-1686866400@www.ihfa.ie
SUMMARY:Slaney Club 2nd Field Evening
DESCRIPTION:15th June at John and Liz Atkinson’s Gurteen Herd\, Templeshambo\, Enniscorthy\, Co Wexford Y21W262.
URL:https://www.ihfa.ie/events-cal/slaney-club-2nd-field-evening/
END:VEVENT
BEGIN:VEVENT
DTSTART;TZID=UTC:20230613T193000
DTEND;TZID=UTC:20230613T223000
DTSTAMP:20260424T075704
CREATED:20230526T143640Z
LAST-MODIFIED:20230526T143640Z
UID:8916-1686684600-1686695400@www.ihfa.ie
SUMMARY:North Eastern Club Field Evening
DESCRIPTION:13th June – we will visit the farm of Tom Dempsey and family; Brownstown\, Collinstown\, Co Westmeath; to view their Brownsvilla Herd. \nN91 XV50
URL:https://www.ihfa.ie/events-cal/north-eastern-club-field-evening/
END:VEVENT
BEGIN:VEVENT
DTSTART;TZID=UTC:20230609T190000
DTEND;TZID=UTC:20230609T220000
DTSTAMP:20260424T075704
CREATED:20230602T083631Z
LAST-MODIFIED:20230602T095050Z
UID:8953-1686337200-1686348000@www.ihfa.ie
SUMMARY:Galway Club Field Evening
DESCRIPTION:Field Evening 9th June\, farm of Darragh Callanan\, Lavallyconor Herd
URL:https://www.ihfa.ie/events-cal/galway-club-field-evening/
END:VEVENT
BEGIN:VEVENT
DTSTART;TZID=UTC:20230608T193000
DTEND;TZID=UTC:20230608T220000
DTSTAMP:20260424T075704
CREATED:20230526T121944Z
LAST-MODIFIED:20230526T121944Z
UID:8904-1686252600-1686261600@www.ihfa.ie
SUMMARY:Laois/Offaly Field Evening
DESCRIPTION:Our first field evening is with Tommy  and Clive Keena (Ballard) 8th of June at 7.30pm. \nBellair Ballycumber Co Offaly R35 YD21
URL:https://www.ihfa.ie/events-cal/laois-offaly-field-evening/
END:VEVENT
BEGIN:VEVENT
DTSTART;TZID=UTC:20230605T080000
DTEND;TZID=UTC:20230608T170000
DTSTAMP:20260424T075704
CREATED:20230526T143509Z
LAST-MODIFIED:20230526T143509Z
UID:8914-1685952000-1686243600@www.ihfa.ie
SUMMARY:North Eastern Club Herds Competition
DESCRIPTION:5th to 8th June
URL:https://www.ihfa.ie/events-cal/north-eastern-club-herds-competition/
END:VEVENT
BEGIN:VEVENT
DTSTART;TZID=UTC:20230601T080000
DTEND;TZID=UTC:20230603T170000
DTSTAMP:20260424T075704
CREATED:20230526T143139Z
LAST-MODIFIED:20230526T143139Z
UID:8910-1685606400-1685811600@www.ihfa.ie
SUMMARY:Limerick / Clare Club Herds Competition
DESCRIPTION:1st – 3rd June judges by John Berry
URL:https://www.ihfa.ie/events-cal/limerick-clare-club-herds-competition/
END:VEVENT
BEGIN:VEVENT
DTSTART;TZID=UTC:20230530T190000
DTEND;TZID=UTC:20230530T220000
DTSTAMP:20260424T075704
CREATED:20230526T120700Z
LAST-MODIFIED:20230526T120700Z
UID:8898-1685473200-1685484000@www.ihfa.ie
SUMMARY:Slaney Club Field Evening
DESCRIPTION:30th May at Eamonn and Anne Browne’s\, Shelin Herd\, Adamstown Enniscorthy\, Co Wexford Y21EF97.
URL:https://www.ihfa.ie/events-cal/slaney-club-field-evening/
END:VEVENT
BEGIN:VEVENT
DTSTART;TZID=UTC:20230530T080000
DTEND;TZID=UTC:20230602T170000
DTSTAMP:20260424T075704
CREATED:20230526T120454Z
LAST-MODIFIED:20230526T120454Z
UID:8896-1685433600-1685725200@www.ihfa.ie
SUMMARY:Slaney Herds Competition
DESCRIPTION:Club Herds Competition – 30th May – 2nd June
URL:https://www.ihfa.ie/events-cal/slaney-herds-competition/
END:VEVENT
BEGIN:VEVENT
DTSTART;TZID=UTC:20230527T083000
DTEND;TZID=UTC:20230527T170000
DTSTAMP:20260424T075704
CREATED:20230504T115341Z
LAST-MODIFIED:20230504T115341Z
UID:8285-1685176200-1685206800@www.ihfa.ie
SUMMARY:Judges Conference
DESCRIPTION:IHFA Judges Conference on Saturday 27th May in Barrons Agri Trading\, County Kerry
URL:https://www.ihfa.ie/events-cal/judges-conference/
END:VEVENT
BEGIN:VEVENT
DTSTART;TZID=UTC:20230526T190000
DTEND;TZID=UTC:20230526T220000
DTSTAMP:20260424T075704
CREATED:20230526T153429Z
LAST-MODIFIED:20230526T153429Z
UID:8930-1685127600-1685138400@www.ihfa.ie
SUMMARY:Cork Holstein Friesian Club Field Evening
DESCRIPTION:Friday 26th May  7pm Field evening on the farm of John Shanahan and family Ballintotis Herd \, Ballintotis Herd\, Castlemartyr\, Co Cork. P25NY39
URL:https://www.ihfa.ie/events-cal/cork-holstein-friesian-club-field-evening/
END:VEVENT
BEGIN:VEVENT
DTSTART;TZID=UTC:20230520T113000
DTEND;TZID=UTC:20230520T170000
DTSTAMP:20260424T075704
CREATED:20230518T084332Z
LAST-MODIFIED:20230518T084959Z
UID:8880-1684582200-1684602000@www.ihfa.ie
SUMMARY:Swiftsheath Youngstock Sale
DESCRIPTION:SWIFTSHEATH YOUNGSTOCK SALE-Saturday 20th May 2023 for Tom & Maura Murphy & Sons\nStarting at 11:30am at  Swiftsheath\, Jenkinstown\, Co.Kilkenny R95 VY38\n\nCatalogue available at https://issuu.com/taaffeauctions/docs/swiftsheath_sale_may_2023_prf4\n\nMany photos of stock available at Taaffee auctions facebook page: https://www.facebook.com/profile.php?id=100057386592117
URL:https://www.ihfa.ie/events-cal/swiftsheath-youngstock-sale/
ATTACH;FMTTYPE=image/png:https://www.ihfa.ie/wp-content/uploads/2023/05/swiftsheath.png
END:VEVENT
BEGIN:VEVENT
DTSTART;TZID=UTC:20230510T190000
DTEND;TZID=UTC:20230510T213000
DTSTAMP:20260424T075704
CREATED:20230504T115157Z
LAST-MODIFIED:20230504T115157Z
UID:8283-1683745200-1683754200@www.ihfa.ie
SUMMARY:IHFA AGM
DESCRIPTION:Wed 10th May at 7pm at the County Arms Hotel\, Railway Rd\, Seefin\, Birr\, Co. Offaly R42 Y568
URL:https://www.ihfa.ie/events-cal/ihfa-agm-2/
END:VEVENT
BEGIN:VEVENT
DTSTART;TZID=UTC:20230429T120000
DTEND;TZID=UTC:20230429T170000
DTSTAMP:20260424T075704
CREATED:20230424T134519Z
LAST-MODIFIED:20230424T134546Z
UID:8154-1682769600-1682787600@www.ihfa.ie
SUMMARY:Clenna Herd Dispersal Sale
DESCRIPTION:CLENNA Herd Dispersal Sale of Pedigree 130 Dairy Cows & 15 Maiden Heifers on Saturday 29 April @ 12pm  Kanturk Mart & online \nCatalogue here 
URL:https://www.ihfa.ie/events-cal/8154/
END:VEVENT
BEGIN:VEVENT
DTSTART;VALUE=DATE:20230429
DTEND;VALUE=DATE:20230430
DTSTAMP:20260424T075704
CREATED:20230202T114305Z
LAST-MODIFIED:20230202T114305Z
UID:7985-1682726400-1682812799@www.ihfa.ie
SUMMARY:Emerald Expo 2023
DESCRIPTION:On Saturday 29th April we will be back in Virginia Show Grounds for Emerald Expo 2023. The show will be running in conjunction with this years European Holstein and Red Holstein Conference \nWe look forward to seeing you all there!
URL:https://www.ihfa.ie/events-cal/emerald-expo-2023/
LOCATION:Virginia Showgrounds
END:VEVENT
BEGIN:VEVENT
DTSTART;TZID=UTC:20230427T080000
DTEND;TZID=UTC:20230428T170000
DTSTAMP:20260424T075704
CREATED:20230424T102520Z
LAST-MODIFIED:20230424T102555Z
UID:8149-1682582400-1682701200@www.ihfa.ie
SUMMARY:EHRC Conference
DESCRIPTION:The EHRC Conference\, hosted by IHFA is taking place on Thursday 27th & Friday 28th of April \nField and office staff will be onsite at the conference these days so you may experience delays in office or query response times \nIf urgent please email enquiries@ihfa.ie
URL:https://www.ihfa.ie/events-cal/ehrc-conference/
ATTACH;FMTTYPE=image/jpeg:https://www.ihfa.ie/wp-content/uploads/2023/04/IMG_8112-scaled.jpg
END:VEVENT
BEGIN:VEVENT
DTSTART;TZID=UTC:20230422T113000
DTEND;TZID=UTC:20230422T163000
DTSTAMP:20260424T075704
CREATED:20230413T113952Z
LAST-MODIFIED:20230413T145207Z
UID:8100-1682163000-1682181000@www.ihfa.ie
SUMMARY:Kilgarriffe Sale
DESCRIPTION:32 Fresh calved heifers & cows\, 20 Bulling Heifers\, 26 Heifer Calves\, 4 Bulls Fit for Service. Saturday 22nd April 2023 @ 11:30am catalogue available here \nAt Kilgarriffe\, Clonakilty\, Co. Cork P85 V567 \nFor Richard & Mervyn Helen – 088-8393116 \nAuctioneer – Taaffe Auctions Ltd. 041-9881288
URL:https://www.ihfa.ie/events-cal/kilgarriffe-sale/
ATTACH;FMTTYPE=image/jpeg:https://www.ihfa.ie/wp-content/uploads/2023/04/Kilgarriffe-Autumn-2022-copy.jpg
END:VEVENT
BEGIN:VEVENT
DTSTART;TZID=UTC:20230419T110000
DTEND;TZID=UTC:20230419T170000
DTSTAMP:20260424T075704
CREATED:20230414T100207Z
LAST-MODIFIED:20230414T100207Z
UID:8107-1681902000-1681923600@www.ihfa.ie
SUMMARY:Daneshill sale @ Gortatlea Mart
DESCRIPTION:40 1st calving home bred PBR cows\, from a milk recorded herd with excellent EBI’s.\nSeller: James Doyle\, Rathkeale\, Co Limerick.\nCatalogue here
URL:https://www.ihfa.ie/events-cal/daneshill-sale-gortatlea-mart/
END:VEVENT
BEGIN:VEVENT
DTSTART;TZID=UTC:20230418T113000
DTEND;TZID=UTC:20230418T163000
DTSTAMP:20260424T075704
CREATED:20230413T114549Z
LAST-MODIFIED:20230413T114549Z
UID:8102-1681817400-1681835400@www.ihfa.ie
SUMMARY:Currendoo Dispersal Sale
DESCRIPTION:Selling entire milking herd – 41 Calved Heifers and Cow plus all youngstock. 12 Bulling Heifers\, 10 Heifer Calves and a 2yr old Holstein Stock Bull \nTuesday 18th April @ 11:30am at Kilbeg\, Monivea\, Athenry\, Co Galway\, H65 Y281 \nGerry Lally – 085-2503575
URL:https://www.ihfa.ie/events-cal/currendoo-dispersal-sale/
END:VEVENT
BEGIN:VEVENT
DTSTART;TZID=UTC:20230415T113000
DTEND;TZID=UTC:20230415T170000
DTSTAMP:20260424T075704
CREATED:20230411T094536Z
LAST-MODIFIED:20230411T094536Z
UID:8086-1681558200-1681578000@www.ihfa.ie
SUMMARY:Coolmohan Sale
DESCRIPTION:56 Freshly calved Heifers and cows and 15 bulls fit for service SELL this Saturday the 15th of April @11:30am at Coolmohan\, Araglen\, Kilworth\, Co.Cork\, P61 VF25 for Pat Flynn \nCatalogue available here https://issuu.com/taaffeauctions/docs/coolmohan_sale_april_2023_web_new?fbclid=IwAR1Rm7lOqQkvHwECbgv7vQik6WsqeJEzFygIw8Ko_iuujZfO0MO9xFqAz3s \n 
URL:https://www.ihfa.ie/events-cal/coolmohan-sale/
END:VEVENT
BEGIN:VEVENT
DTSTART;VALUE=DATE:20230412
DTEND;VALUE=DATE:20230413
DTSTAMP:20260424T075704
CREATED:20230406T143225Z
LAST-MODIFIED:20230406T143225Z
UID:8078-1681257600-1681343999@www.ihfa.ie
SUMMARY:Kerry Club Bull Sale
DESCRIPTION:Gortatlea Mart\, Co.Kerry \nhttps://issuu.com/irishholsteinfriesianassociation/docs/kerry_bull_sale_2023
URL:https://www.ihfa.ie/events-cal/kerry-club-bull-sale-2/
END:VEVENT
BEGIN:VEVENT
DTSTART;TZID=UTC:20230406T170000
DTEND;TZID=UTC:20230411T090000
DTSTAMP:20260424T075704
CREATED:20230406T162505Z
LAST-MODIFIED:20230406T162505Z
UID:8082-1680800400-1681203600@www.ihfa.ie
SUMMARY:IHFA Office Easter Hours
DESCRIPTION:Please note the IHFA Office will be closed for Good Friday and Easter Monday\, we will reopen on Tuesday the 11th of April at 9am
URL:https://www.ihfa.ie/events-cal/ihfa-office-easter-hours/
END:VEVENT
BEGIN:VEVENT
DTSTART;TZID=UTC:20230404T080000
DTEND;TZID=UTC:20230404T170000
DTSTAMP:20260424T075704
CREATED:20230404T153107Z
LAST-MODIFIED:20230404T153107Z
UID:8058-1680595200-1680627600@www.ihfa.ie
SUMMARY:Sale
DESCRIPTION:Annual sale of 30 calved heifers all AI breed out of 7500 litre herd 4.1 Fat & 3.5 Protein Gortatalea Mart on 19/4/2023 @ 12pm or contact Jimmy Doyle Rathkeale on 0874105154
URL:https://www.ihfa.ie/events-cal/sale/
END:VEVENT
BEGIN:VEVENT
DTSTART;TZID=UTC:20230331T110000
DTEND;TZID=UTC:20230331T140000
DTSTAMP:20260424T075704
CREATED:20230328T081419Z
LAST-MODIFIED:20230328T081419Z
UID:8052-1680260400-1680271200@www.ihfa.ie
SUMMARY:Ballintosig Herd Clearance Sale
DESCRIPTION:Complete clearance sale for Mr Anthony Flavin\, Killeagh at Corrin Mart Friday 31st of March starting at 11am sharp \nFull pedigree herd\, average EBI €252 and top EBI €333 \nHerd Av 7\,547kgs milk\, 4.25% BF 3.79% PR\, SCC 99 – AV. Milk solids 607kgs \nCatalogue available here https://bit.ly/3lJbJa6
URL:https://www.ihfa.ie/events-cal/ballintosig-herd-clearance-sale/
END:VEVENT
BEGIN:VEVENT
DTSTART;TZID=UTC:20230330T110000
DTEND;TZID=UTC:20230330T140000
DTSTAMP:20260424T075704
CREATED:20230328T162224Z
LAST-MODIFIED:20230328T162224Z
UID:8054-1680174000-1680184800@www.ihfa.ie
SUMMARY:Kilkernmore Herd Dispersal Sale
DESCRIPTION:Kilkernmore Herd full dispersal sale @ Bandon Mart\, Cork this Thursday 30th March at 11am sharp for Padraig McCarthy \nContact mart 023 8841151 for more \nCatalogue https://bit.ly/3JRg1o3 \n 
URL:https://www.ihfa.ie/events-cal/kilkernmore-herd-dispersal-sale/
END:VEVENT
BEGIN:VEVENT
DTSTART;TZID=UTC:20230329T080000
DTEND;TZID=UTC:20230329T170000
DTSTAMP:20260424T075704
CREATED:20230127T152809Z
LAST-MODIFIED:20230127T152900Z
UID:7902-1680076800-1680109200@www.ihfa.ie
SUMMARY:2023 Bull Sale
DESCRIPTION:2023 IHFA Bull Sale at Nenagh Mart 29th March
URL:https://www.ihfa.ie/events-cal/2023-bull-sale/
END:VEVENT
BEGIN:VEVENT
DTSTART;VALUE=DATE:20230315
DTEND;VALUE=DATE:20230316
DTSTAMP:20260424T075704
CREATED:20230306T130921Z
LAST-MODIFIED:20230306T130921Z
UID:8013-1678838400-1678924799@www.ihfa.ie
SUMMARY:Kerry Club Heifer Sale
DESCRIPTION:Kerry Club Heifer Sale @ Gortatlea Mart
URL:https://www.ihfa.ie/events-cal/kerry-club-heifer-sale-2/
END:VEVENT
BEGIN:VEVENT
DTSTART;TZID=UTC:20230308T113000
DTEND;TZID=UTC:20230308T170000
DTSTAMP:20260424T075704
CREATED:20230306T142649Z
LAST-MODIFIED:20230306T142730Z
UID:8015-1678275000-1678294800@www.ihfa.ie
SUMMARY:Dispersal Sale of Clonocey/Clonmacken Herd
DESCRIPTION:Due to health issues a complete dispersal sale of the Clonocey/Clonmacken herd belonging to Seamus Shannon\, Clonocey\, Belturbet\, Co Caven. \n150 head selling THIS WEDNESDAY March 8th at Carnaross Mart at 11:30am – please note earlier than usual start time \nCatalogue available here
URL:https://www.ihfa.ie/events-cal/dispersal-sale-of-clonocey-clonmacken-herd/
END:VEVENT
END:VCALENDAR