BEGIN:VCALENDAR
VERSION:2.0
PRODID:-//IHFA - ECPv6.15.20//NONSGML v1.0//EN
CALSCALE:GREGORIAN
METHOD:PUBLISH
X-WR-CALNAME:IHFA
X-ORIGINAL-URL:https://www.ihfa.ie
X-WR-CALDESC:Events for IHFA
REFRESH-INTERVAL;VALUE=DURATION:PT1H
X-Robots-Tag:noindex
X-PUBLISHED-TTL:PT1H
BEGIN:VTIMEZONE
TZID:UTC
BEGIN:STANDARD
TZOFFSETFROM:+0000
TZOFFSETTO:+0000
TZNAME:UTC
DTSTART:20210101T000000
END:STANDARD
END:VTIMEZONE
BEGIN:VEVENT
DTSTART;VALUE=DATE:20230224
DTEND;VALUE=DATE:20230225
DTSTAMP:20260424T154112
CREATED:20230221T142048Z
LAST-MODIFIED:20230221T142124Z
UID:8008-1677196800-1677283199@www.ihfa.ie
SUMMARY:Ashberry Dispersal Sale
DESCRIPTION:ASHBERRY Dispersal sale  90 freshly calved Holstein Friesian heifers & 40 heifer calves. EBI to €368\, genotyped and full pedigree.  Milk recorded herd and 20 years TB free. Sale at Thurles mart Friday 24th Feb @11:30 & online. Catalogue https://bit.ly/3lSDehf contact Ray Hunt 0873392467
URL:https://www.ihfa.ie/events-cal/ashberry-dispersal-sale/
END:VEVENT
BEGIN:VEVENT
DTSTART;TZID=UTC:20230127T193000
DTEND;TZID=UTC:20230127T213000
DTSTAMP:20260424T154112
CREATED:20220214T160756Z
LAST-MODIFIED:20221219T123831Z
UID:6884-1674847800-1674855000@www.ihfa.ie
SUMMARY:YMA AGM
DESCRIPTION:The YMA AGM is being held in the Maldron Hotel\, Portlaoise on Friday\,  January 27th at 7.30 pm – 9.30 pm
URL:https://www.ihfa.ie/events-cal/yma-agm/
END:VEVENT
BEGIN:VEVENT
DTSTART;TZID=UTC:20230125T130000
DTEND;TZID=UTC:20230125T150000
DTSTAMP:20260424T154112
CREATED:20230103T094933Z
LAST-MODIFIED:20230103T094933Z
UID:7822-1674651600-1674658800@www.ihfa.ie
SUMMARY:All Ireland Award Ceremony 2022
DESCRIPTION:
URL:https://www.ihfa.ie/events-cal/all-ireland-award-ceremony-2022/
END:VEVENT
BEGIN:VEVENT
DTSTART;TZID=UTC:20230106T110000
DTEND;TZID=UTC:20230106T170000
DTSTAMP:20260424T154112
CREATED:20230104T135747Z
LAST-MODIFIED:20230104T135747Z
UID:7824-1673002800-1673024400@www.ihfa.ie
SUMMARY:Baileaodha Herd Clearance Sale
DESCRIPTION:CLEARANCE SALE this Friday 6th Jan\, Corrin Mart. 50 Cows & 12 Incalf heifers all pedigree reg. for John & Anne O Donovan\, Baileaodha herd\, Carrigaline. Catalogue available online and at this link https://tinyurl.com/37wfk68v
URL:https://www.ihfa.ie/events-cal/baileaodha-herd-clearance-sale/
END:VEVENT
BEGIN:VEVENT
DTSTART;TZID=UTC:20221223T130000
DTEND;TZID=UTC:20230103T090000
DTSTAMP:20260424T154112
CREATED:20221219T123319Z
LAST-MODIFIED:20221219T123605Z
UID:7815-1671800400-1672736400@www.ihfa.ie
SUMMARY:IHFA Office Closed for Christmas/New Year
DESCRIPTION:The IHFA Office will be Closed from 13.00 on Friday 23rd December and will re-open on Tuesday 3rd January @ 9am \nWishing you all a very Merry Christmas and a Happy New Year!
URL:https://www.ihfa.ie/events-cal/yma-agm-2/
END:VEVENT
BEGIN:VEVENT
DTSTART;TZID=UTC:20221029T110000
DTEND;TZID=UTC:20221029T170000
DTSTAMP:20260424T154112
CREATED:20221025T083634Z
LAST-MODIFIED:20221025T083634Z
UID:7688-1667041200-1667062800@www.ihfa.ie
SUMMARY:Monamore Sale
DESCRIPTION:Monamore Sale being held at Carnaross Mart – 11am Start \nClick Here to access the Catalogue 
URL:https://www.ihfa.ie/events-cal/monamore-sale/
END:VEVENT
BEGIN:VEVENT
DTSTART;TZID=UTC:20221027T120000
DTEND;TZID=UTC:20221027T163000
DTSTAMP:20260424T154112
CREATED:20221024T115607Z
LAST-MODIFIED:20221024T115607Z
UID:7684-1666872000-1666888200@www.ihfa.ie
SUMMARY:Knockenright Herd Sale
DESCRIPTION:Knockenright Herd Sale: 10 In-calf Pedigree Heifers\, taking place at Gortatlea Mart this Thursday 27th of October @12 pm. \nAverage EBI 205 and from the family of top selling bull Chessman \nContact Denis Enright on 0877730806 or Gortatlea Mart           +353 667127244 \nSALE CATALOGUE
URL:https://www.ihfa.ie/events-cal/knockenright-herd-sale/
LOCATION:Gortatlea Mart
END:VEVENT
BEGIN:VEVENT
DTSTART;VALUE=DATE:20221008
DTEND;VALUE=DATE:20221009
DTSTAMP:20260424T154112
CREATED:20220923T132753Z
LAST-MODIFIED:20220923T132753Z
UID:7590-1665187200-1665273599@www.ihfa.ie
SUMMARY:Lisduff Sale 2022
DESCRIPTION:https://issuu.com/irishholsteinfriesianassociation/docs/lisduff_sale_2022?fbclid=IwAR2zrxn8D08_yoPK8Bax_xCRUFwcOPiJRd0gPVwtIqkLaV-8MGfi3hj_cLk
URL:https://www.ihfa.ie/events-cal/lisduff-sale-2022/
END:VEVENT
BEGIN:VEVENT
DTSTART;VALUE=DATE:20220924
DTEND;VALUE=DATE:20220925
DTSTAMP:20260424T154112
CREATED:20220923T132723Z
LAST-MODIFIED:20220923T132723Z
UID:7585-1663977600-1664063999@www.ihfa.ie
SUMMARY:Proven Protein Sale 2022
DESCRIPTION:https://issuu.com/irishholsteinfriesianassociation/docs/proven_protein_catalogue_2022?fbclid=IwAR3645JiVEqfftHJdkXVj_0AC-sq5n2QwtJMqlVieypAQnZvqPnJGP4_3RQ
URL:https://www.ihfa.ie/events-cal/proven-protein-sale-2022/
END:VEVENT
BEGIN:VEVENT
DTSTART;VALUE=DATE:20220828
DTEND;VALUE=DATE:20220829
DTSTAMP:20260424T154112
CREATED:20220506T133625Z
LAST-MODIFIED:20220506T133625Z
UID:7166-1661644800-1661731199@www.ihfa.ie
SUMMARY:Limerick Show
DESCRIPTION:
URL:https://www.ihfa.ie/events-cal/limerick-show/
END:VEVENT
BEGIN:VEVENT
DTSTART;TZID=UTC:20220827T080000
DTEND;TZID=UTC:20220827T170000
DTSTAMP:20260424T154112
CREATED:20220725T082107Z
LAST-MODIFIED:20220725T082119Z
UID:7480-1661587200-1661619600@www.ihfa.ie
SUMMARY:Iverk Show 2022
DESCRIPTION:The Iverk show\, the oldest agricultural show in Ireland\, is a one day traditional yet modern agricultural event. Since 1826 the Iverk show is a family / community-based event hosting All Ireland championship finals and qualifiers for other finals.  \nThe annual show on the fourth Saturday in August is held in the village of Piltown on the N 24 in County Kilkenny between Waterford and Clonmel. 
URL:https://www.ihfa.ie/events-cal/iverk-show-2022/
END:VEVENT
BEGIN:VEVENT
DTSTART;TZID=UTC:20220824T100000
DTEND;TZID=UTC:20220824T170000
DTSTAMP:20260424T154112
CREATED:20220509T113415Z
LAST-MODIFIED:20220509T113415Z
UID:7179-1661335200-1661360400@www.ihfa.ie
SUMMARY:Virginia Show & Diageo Baileys Champion Cow
DESCRIPTION:For show updates and entries see the Show Facebook page https://www.facebook.com/VirginiaShow/
URL:https://www.ihfa.ie/events-cal/virginia-show-diageo-baileys-champion-cow/
END:VEVENT
BEGIN:VEVENT
DTSTART;TZID=UTC:20220814T100000
DTEND;TZID=UTC:20220814T170000
DTSTAMP:20260424T154112
CREATED:20220509T112306Z
LAST-MODIFIED:20220509T112306Z
UID:7177-1660471200-1660496400@www.ihfa.ie
SUMMARY:Tullamore Show and FBD National Livestock Show
DESCRIPTION:For entries go to https://www.tullamoreshow.com/competitions
URL:https://www.ihfa.ie/events-cal/tullamore-show-and-fbd-national-livestock-show/
END:VEVENT
BEGIN:VEVENT
DTSTART;TZID=UTC:20220729T193000
DTEND;TZID=UTC:20220729T230000
DTSTAMP:20260424T154112
CREATED:20220722T143404Z
LAST-MODIFIED:20220722T143404Z
UID:7470-1659123000-1659135600@www.ihfa.ie
SUMMARY:Cork Holstein Friesian Breeders Club Awards Night & Stock Judging
DESCRIPTION:CHFBC awards and stock judging on the farm of Brian and Tommy Roche\, Greenridge\,Kilkenny R95AHR1\, on Fri 29th July at 7.30pm\, adults €15 for meal and stock judging card\, children €10\, bouncing castle and spot prizes on the night.
URL:https://www.ihfa.ie/events-cal/cork-holstein-friesian-breeders-club-awards-night-stock-judging/
END:VEVENT
BEGIN:VEVENT
DTSTART;TZID=UTC:20220721T120000
DTEND;TZID=UTC:20220721T150000
DTSTAMP:20260424T154112
CREATED:20220316T130905Z
LAST-MODIFIED:20220316T130905Z
UID:6966-1658404800-1658415600@www.ihfa.ie
SUMMARY:Pure Friesian Club Open Day
DESCRIPTION:The Irish Pure Friesian Club are holding their open day at the farm of the Quealy family of Grenan Pure Friesians\, Kilmacthomas\, Co. Waterford on Thursday 21st of July. \nA choice sale of breeding stock from the herd’s top breeding lines will be an added attraction. \nAll are welcome.
URL:https://www.ihfa.ie/events-cal/pure-friesian-club-open-day/
END:VEVENT
BEGIN:VEVENT
DTSTART;TZID=UTC:20220715T193000
DTEND;TZID=UTC:20220715T213000
DTSTAMP:20260424T154112
CREATED:20220607T131951Z
LAST-MODIFIED:20220607T131951Z
UID:7352-1657913400-1657920600@www.ihfa.ie
SUMMARY:Field Evening - Cork Club
DESCRIPTION:The Cork Holstein Friesian Club are holding their field evening on the farm of Michael Murphy\, Skehanagh\, Ballinhassig\, Co Cork on Friday 15th July at 7.30pm.
URL:https://www.ihfa.ie/events-cal/field-evening-cork-club/
END:VEVENT
BEGIN:VEVENT
DTSTART;TZID=UTC:20220713T193000
DTEND;TZID=UTC:20220713T213000
DTSTAMP:20260424T154112
CREATED:20220609T143900Z
LAST-MODIFIED:20220609T143900Z
UID:7362-1657740600-1657747800@www.ihfa.ie
SUMMARY:Field Evening - Laois Offaly Club
DESCRIPTION:The Laois Offaly Holstein Friesian Club are holding their field evening on Wednesday 13th July @ 7.30pm on the farm of Richard Claxton & Family\, Richvale Herd\, Colt\, Ballyroan\, Co.Laois\, R32 VX94
URL:https://www.ihfa.ie/events-cal/field-evening-laois-offaly-club-2/
END:VEVENT
BEGIN:VEVENT
DTSTART;TZID=UTC:20220710T090000
DTEND;TZID=UTC:20220710T170000
DTSTAMP:20260424T154112
CREATED:20220623T121652Z
LAST-MODIFIED:20220623T121652Z
UID:7418-1657443600-1657472400@www.ihfa.ie
SUMMARY:Dungarvan Agricultural Show
DESCRIPTION:Being held on Sunday 10th July\, Dungarvan Agricultural Show are running a grand prize of €1000 Super Cow Class and a €1000 Super Calf Class for January 2022 born calves. They are also holding YMA Showmanship League Qualifiers at their show this year. Don’t miss out on a fun-filled day in Dungarvan!
URL:https://www.ihfa.ie/events-cal/dungarvan-agricultural-show/
END:VEVENT
BEGIN:VEVENT
DTSTART;TZID=UTC:20220707T113000
DTEND;TZID=UTC:20220707T160000
DTSTAMP:20260424T154112
CREATED:20220316T130324Z
LAST-MODIFIED:20220704T093825Z
UID:6964-1657193400-1657209600@www.ihfa.ie
SUMMARY:National IHFA Open Day 2022
DESCRIPTION:The National IHFA Open Day 2022 is being held by Aidan and Sally Ann Frawley & family of Ballytigue herd\, Bruree\, Co. Limerick. This event will be held on farm on Thursday 7th July. \nThis family farm day out will include stock judging\, awards presentations and a sale of young stock from the herd. \nAll are welcome. \n  \nDirections as follows: \nEircode to O’Rourke’s Cross: V35 YY24 \nEvent will be signposted from there – approx. 2km
URL:https://www.ihfa.ie/events-cal/national-ihfa-open-day-2022/
END:VEVENT
BEGIN:VEVENT
DTSTART;TZID=UTC:20220704T170000
DTEND;TZID=UTC:20220704T170000
DTSTAMP:20260424T154112
CREATED:20220627T090834Z
LAST-MODIFIED:20220627T090834Z
UID:7422-1656954000-1656954000@www.ihfa.ie
SUMMARY:Cork YMA Calf Show
DESCRIPTION:Cork YMA Calf Show is being held at the West Cork Equestrian Centre\, Kilbritain – Judge: Michael Yates\, Scotland
URL:https://www.ihfa.ie/events-cal/cork-yma-calf-show/
END:VEVENT
BEGIN:VEVENT
DTSTART;TZID=UTC:20220701T193000
DTEND;TZID=UTC:20220701T223000
DTSTAMP:20260424T154112
CREATED:20220627T090739Z
LAST-MODIFIED:20220627T090739Z
UID:7420-1656703800-1656714600@www.ihfa.ie
SUMMARY:Field Evening - Cork YMA
DESCRIPTION:Cork YMA are holding a Stock Judging Field Evening in Conjunction with the CHFC\, kindly held at the IBANE Herd of Michael & Majella Coleman – Friday 1st July @ 7.30pm
URL:https://www.ihfa.ie/events-cal/field-evening-cork-yma/
END:VEVENT
BEGIN:VEVENT
DTSTART;TZID=UTC:20220629T200000
DTEND;TZID=UTC:20220629T220000
DTSTAMP:20260424T154112
CREATED:20220614T114628Z
LAST-MODIFIED:20220614T114628Z
UID:7374-1656532800-1656540000@www.ihfa.ie
SUMMARY:Field Evening - Tipperary/Waterford Club
DESCRIPTION:The Tipperary/Waterford Holstein Friesian Club are holding their field evening on the farm of Philip Tyrrell Ballyscanlon\, Fenor\, Co. Waterford X91TP86 on Wednesday 29th June @ 8pm
URL:https://www.ihfa.ie/events-cal/field-evening-tipperary-waterford-club-2/
END:VEVENT
BEGIN:VEVENT
DTSTART;VALUE=DATE:20220626
DTEND;VALUE=DATE:20220627
DTSTAMP:20260424T154112
CREATED:20220610T123430Z
LAST-MODIFIED:20220610T123430Z
UID:7367-1656201600-1656287999@www.ihfa.ie
SUMMARY:Corrandulla Show
DESCRIPTION:Corrandulla Show will be held in Corrandulla Village\, Co. Galway on Sunday 26th of June. All are welcome. \nFor more info\, see https://corrandullashow.com
URL:https://www.ihfa.ie/events-cal/corrandulla-show/
END:VEVENT
BEGIN:VEVENT
DTSTART;TZID=UTC:20220625T100000
DTEND;TZID=UTC:20220625T163000
DTSTAMP:20260424T154112
CREATED:20220517T093416Z
LAST-MODIFIED:20220517T093416Z
UID:7236-1656151200-1656174600@www.ihfa.ie
SUMMARY:Charleville Show
DESCRIPTION:The cattle and handling classes are being held on Saturday 25th of June. Entries can be made online on – https://www.charlevilleshow.com/show/classes
URL:https://www.ihfa.ie/events-cal/charleville-show/
END:VEVENT
BEGIN:VEVENT
DTSTART;TZID=UTC:20220624T193000
DTEND;TZID=UTC:20220624T213000
DTSTAMP:20260424T154112
CREATED:20220616T122816Z
LAST-MODIFIED:20220616T122816Z
UID:7384-1656099000-1656106200@www.ihfa.ie
SUMMARY:Field Evening - Cork Holstein Friesian Club
DESCRIPTION:The Cork Holstein Friesian Club are holding a Field Evening & Stock Judging on the Farm of Tom\, John and Cathy Kearney\, of the BROWNEY Herd on Friday 24th June 2022 @ 7.30pm \nAll Welcome! – Eir Code: P61 NP23
URL:https://www.ihfa.ie/events-cal/field-evening-cork-holstein-friesian-club/
END:VEVENT
BEGIN:VEVENT
DTSTART;TZID=UTC:20220623T193000
DTEND;TZID=UTC:20220623T213000
DTSTAMP:20260424T154112
CREATED:20220609T143729Z
LAST-MODIFIED:20220609T143729Z
UID:7360-1656012600-1656019800@www.ihfa.ie
SUMMARY:Field Evening - Laois Offaly Club
DESCRIPTION:The Laois Offaly Holstein Friesian Club are holding their field evening on Thursday 23rd June @ 7.30pm on the farm of Francis & Gareth O’Brien\, Rathgibbon Herd\, Streamstown\, Killyon\, Birr\, Co.Offaly\, R42 WK23
URL:https://www.ihfa.ie/events-cal/field-evening-laois-offaly-club/
END:VEVENT
BEGIN:VEVENT
DTSTART;TZID=UTC:20220623T120000
DTEND;TZID=UTC:20220623T150000
DTSTAMP:20260424T154112
CREATED:20220523T115737Z
LAST-MODIFIED:20220523T115737Z
UID:7319-1655985600-1655996400@www.ihfa.ie
SUMMARY:Lisduff Youngstock Sale 2022
DESCRIPTION:The Annual Lisduff Youngstock Sale 2022 will take place on farm  on Thursday 23rd June at 12 noon. \nLots comprise Autumn ’21 & Spring ’22 pedigree heifer calves. For more info see – \nLisduff Youngstock Sale 2022
URL:https://www.ihfa.ie/events-cal/lisduff-youngstock-sale-2022/
END:VEVENT
BEGIN:VEVENT
DTSTART;TZID=UTC:20220622T200000
DTEND;TZID=UTC:20220622T220000
DTSTAMP:20260424T154112
CREATED:20220614T114534Z
LAST-MODIFIED:20220614T114534Z
UID:7372-1655928000-1655935200@www.ihfa.ie
SUMMARY:Field Evening - Tipperary/Waterford Club
DESCRIPTION:The Tipperary/Waterford Holstein Friesian Club are holding their field evening on the farm of Anthony Slattery Lisfuncheon\, Ballyporeen\, Cahir\, Co Tipperary E21PX79 on Wednesday 22nd June @ 8pm
URL:https://www.ihfa.ie/events-cal/field-evening-tipperary-waterford-club/
END:VEVENT
BEGIN:VEVENT
DTSTART;TZID=UTC:20220622T100000
DTEND;TZID=UTC:20220622T160000
DTSTAMP:20260424T154112
CREATED:20220517T101313Z
LAST-MODIFIED:20220517T101313Z
UID:7242-1655892000-1655913600@www.ihfa.ie
SUMMARY:Leagh Promise of Protein Sale
DESCRIPTION:Sale by Taaffe Auctioins at Carnaross Mart. See https://taaffeauctions.com/livestock_profile.php#list-upcoming \nfor full sale catalogue.
URL:https://www.ihfa.ie/events-cal/leagh-promise-of-protein-sale/
END:VEVENT
BEGIN:VEVENT
DTSTART;TZID=UTC:20220618T100000
DTEND;TZID=UTC:20220618T160000
DTSTAMP:20260424T154112
CREATED:20220517T093837Z
LAST-MODIFIED:20220517T093837Z
UID:7238-1655546400-1655568000@www.ihfa.ie
SUMMARY:Cork Summer Show
DESCRIPTION:Cattle and showmanship classes are being held on Saturday 18th of June. Entities can be made online on – \nhttps://www.corksummershow.com/show/classes
URL:https://www.ihfa.ie/events-cal/cork-summer-show/
END:VEVENT
END:VCALENDAR