BEGIN:VCALENDAR
VERSION:2.0
PRODID:-//IHFA - ECPv6.15.20//NONSGML v1.0//EN
CALSCALE:GREGORIAN
METHOD:PUBLISH
X-WR-CALNAME:IHFA
X-ORIGINAL-URL:https://www.ihfa.ie
X-WR-CALDESC:Events for IHFA
REFRESH-INTERVAL;VALUE=DURATION:PT1H
X-Robots-Tag:noindex
X-PUBLISHED-TTL:PT1H
BEGIN:VTIMEZONE
TZID:UTC
BEGIN:STANDARD
TZOFFSETFROM:+0000
TZOFFSETTO:+0000
TZNAME:UTC
DTSTART:20210101T000000
END:STANDARD
END:VTIMEZONE
BEGIN:VEVENT
DTSTART;TZID=UTC:20220707T113000
DTEND;TZID=UTC:20220707T160000
DTSTAMP:20260424T200730
CREATED:20220316T130324Z
LAST-MODIFIED:20220704T093825Z
UID:6964-1657193400-1657209600@www.ihfa.ie
SUMMARY:National IHFA Open Day 2022
DESCRIPTION:The National IHFA Open Day 2022 is being held by Aidan and Sally Ann Frawley & family of Ballytigue herd\, Bruree\, Co. Limerick. This event will be held on farm on Thursday 7th July. \nThis family farm day out will include stock judging\, awards presentations and a sale of young stock from the herd. \nAll are welcome. \n  \nDirections as follows: \nEircode to O’Rourke’s Cross: V35 YY24 \nEvent will be signposted from there – approx. 2km
URL:https://www.ihfa.ie/events-cal/national-ihfa-open-day-2022/
END:VEVENT
BEGIN:VEVENT
DTSTART;TZID=UTC:20220704T170000
DTEND;TZID=UTC:20220704T170000
DTSTAMP:20260424T200730
CREATED:20220627T090834Z
LAST-MODIFIED:20220627T090834Z
UID:7422-1656954000-1656954000@www.ihfa.ie
SUMMARY:Cork YMA Calf Show
DESCRIPTION:Cork YMA Calf Show is being held at the West Cork Equestrian Centre\, Kilbritain – Judge: Michael Yates\, Scotland
URL:https://www.ihfa.ie/events-cal/cork-yma-calf-show/
END:VEVENT
BEGIN:VEVENT
DTSTART;TZID=UTC:20220701T193000
DTEND;TZID=UTC:20220701T223000
DTSTAMP:20260424T200730
CREATED:20220627T090739Z
LAST-MODIFIED:20220627T090739Z
UID:7420-1656703800-1656714600@www.ihfa.ie
SUMMARY:Field Evening - Cork YMA
DESCRIPTION:Cork YMA are holding a Stock Judging Field Evening in Conjunction with the CHFC\, kindly held at the IBANE Herd of Michael & Majella Coleman – Friday 1st July @ 7.30pm
URL:https://www.ihfa.ie/events-cal/field-evening-cork-yma/
END:VEVENT
BEGIN:VEVENT
DTSTART;TZID=UTC:20220629T200000
DTEND;TZID=UTC:20220629T220000
DTSTAMP:20260424T200730
CREATED:20220614T114628Z
LAST-MODIFIED:20220614T114628Z
UID:7374-1656532800-1656540000@www.ihfa.ie
SUMMARY:Field Evening - Tipperary/Waterford Club
DESCRIPTION:The Tipperary/Waterford Holstein Friesian Club are holding their field evening on the farm of Philip Tyrrell Ballyscanlon\, Fenor\, Co. Waterford X91TP86 on Wednesday 29th June @ 8pm
URL:https://www.ihfa.ie/events-cal/field-evening-tipperary-waterford-club-2/
END:VEVENT
BEGIN:VEVENT
DTSTART;VALUE=DATE:20220626
DTEND;VALUE=DATE:20220627
DTSTAMP:20260424T200730
CREATED:20220610T123430Z
LAST-MODIFIED:20220610T123430Z
UID:7367-1656201600-1656287999@www.ihfa.ie
SUMMARY:Corrandulla Show
DESCRIPTION:Corrandulla Show will be held in Corrandulla Village\, Co. Galway on Sunday 26th of June. All are welcome. \nFor more info\, see https://corrandullashow.com
URL:https://www.ihfa.ie/events-cal/corrandulla-show/
END:VEVENT
BEGIN:VEVENT
DTSTART;TZID=UTC:20220625T100000
DTEND;TZID=UTC:20220625T163000
DTSTAMP:20260424T200730
CREATED:20220517T093416Z
LAST-MODIFIED:20220517T093416Z
UID:7236-1656151200-1656174600@www.ihfa.ie
SUMMARY:Charleville Show
DESCRIPTION:The cattle and handling classes are being held on Saturday 25th of June. Entries can be made online on – https://www.charlevilleshow.com/show/classes
URL:https://www.ihfa.ie/events-cal/charleville-show/
END:VEVENT
BEGIN:VEVENT
DTSTART;TZID=UTC:20220624T193000
DTEND;TZID=UTC:20220624T213000
DTSTAMP:20260424T200730
CREATED:20220616T122816Z
LAST-MODIFIED:20220616T122816Z
UID:7384-1656099000-1656106200@www.ihfa.ie
SUMMARY:Field Evening - Cork Holstein Friesian Club
DESCRIPTION:The Cork Holstein Friesian Club are holding a Field Evening & Stock Judging on the Farm of Tom\, John and Cathy Kearney\, of the BROWNEY Herd on Friday 24th June 2022 @ 7.30pm \nAll Welcome! – Eir Code: P61 NP23
URL:https://www.ihfa.ie/events-cal/field-evening-cork-holstein-friesian-club/
END:VEVENT
BEGIN:VEVENT
DTSTART;TZID=UTC:20220623T193000
DTEND;TZID=UTC:20220623T213000
DTSTAMP:20260424T200730
CREATED:20220609T143729Z
LAST-MODIFIED:20220609T143729Z
UID:7360-1656012600-1656019800@www.ihfa.ie
SUMMARY:Field Evening - Laois Offaly Club
DESCRIPTION:The Laois Offaly Holstein Friesian Club are holding their field evening on Thursday 23rd June @ 7.30pm on the farm of Francis & Gareth O’Brien\, Rathgibbon Herd\, Streamstown\, Killyon\, Birr\, Co.Offaly\, R42 WK23
URL:https://www.ihfa.ie/events-cal/field-evening-laois-offaly-club/
END:VEVENT
BEGIN:VEVENT
DTSTART;TZID=UTC:20220623T120000
DTEND;TZID=UTC:20220623T150000
DTSTAMP:20260424T200730
CREATED:20220523T115737Z
LAST-MODIFIED:20220523T115737Z
UID:7319-1655985600-1655996400@www.ihfa.ie
SUMMARY:Lisduff Youngstock Sale 2022
DESCRIPTION:The Annual Lisduff Youngstock Sale 2022 will take place on farm  on Thursday 23rd June at 12 noon. \nLots comprise Autumn ’21 & Spring ’22 pedigree heifer calves. For more info see – \nhttps://www.denisbarrett.com/en/lisduff-youngstock-sale-2022/
URL:https://www.ihfa.ie/events-cal/lisduff-youngstock-sale-2022/
END:VEVENT
BEGIN:VEVENT
DTSTART;TZID=UTC:20220622T200000
DTEND;TZID=UTC:20220622T220000
DTSTAMP:20260424T200730
CREATED:20220614T114534Z
LAST-MODIFIED:20220614T114534Z
UID:7372-1655928000-1655935200@www.ihfa.ie
SUMMARY:Field Evening - Tipperary/Waterford Club
DESCRIPTION:The Tipperary/Waterford Holstein Friesian Club are holding their field evening on the farm of Anthony Slattery Lisfuncheon\, Ballyporeen\, Cahir\, Co Tipperary E21PX79 on Wednesday 22nd June @ 8pm
URL:https://www.ihfa.ie/events-cal/field-evening-tipperary-waterford-club/
END:VEVENT
BEGIN:VEVENT
DTSTART;TZID=UTC:20220622T100000
DTEND;TZID=UTC:20220622T160000
DTSTAMP:20260424T200730
CREATED:20220517T101313Z
LAST-MODIFIED:20220517T101313Z
UID:7242-1655892000-1655913600@www.ihfa.ie
SUMMARY:Leagh Promise of Protein Sale
DESCRIPTION:Sale by Taaffe Auctioins at Carnaross Mart. See https://taaffeauctions.com/livestock_profile.php#list-upcoming \nfor full sale catalogue.
URL:https://www.ihfa.ie/events-cal/leagh-promise-of-protein-sale/
END:VEVENT
BEGIN:VEVENT
DTSTART;TZID=UTC:20220618T100000
DTEND;TZID=UTC:20220618T160000
DTSTAMP:20260424T200730
CREATED:20220517T093837Z
LAST-MODIFIED:20220517T093837Z
UID:7238-1655546400-1655568000@www.ihfa.ie
SUMMARY:Cork Summer Show
DESCRIPTION:Cattle and showmanship classes are being held on Saturday 18th of June. Entities can be made online on – \nhttps://www.corksummershow.com/show/classes
URL:https://www.ihfa.ie/events-cal/cork-summer-show/
END:VEVENT
BEGIN:VEVENT
DTSTART;TZID=UTC:20220617T193000
DTEND;TZID=UTC:20220617T223000
DTSTAMP:20260424T200730
CREATED:20220607T092106Z
LAST-MODIFIED:20220615T093906Z
UID:7350-1655494200-1655505000@www.ihfa.ie
SUMMARY:Kerry Club - Field Evening
DESCRIPTION:Field Evening on the farm of John and Niall Mason\, Tralee\, V92DT7X on Friday 17th June @ 7.30pm – All Welcome
URL:https://www.ihfa.ie/events-cal/kerry-club-field-evening/
END:VEVENT
BEGIN:VEVENT
DTSTART;TZID=UTC:20220617T193000
DTEND;TZID=UTC:20220617T213000
DTSTAMP:20260424T200730
CREATED:20220610T073443Z
LAST-MODIFIED:20220610T073443Z
UID:7364-1655494200-1655501400@www.ihfa.ie
SUMMARY:Field Evening - Carlow Kilkenny Club
DESCRIPTION:The Carlow Kilkenny Holstein Friesian Club are holding a Field Evening & Stock Judging on Friday 17th June\, hosted by John Roche\, Ballyedmond Herd\, Ballyedmond\, Hacketstown\, Co. Carlow. R93 P622 – 7.30pm Start
URL:https://www.ihfa.ie/events-cal/field-evening-carlow-kilkenny-club/
END:VEVENT
BEGIN:VEVENT
DTSTART;TZID=UTC:20220617T190000
DTEND;TZID=UTC:20220617T210000
DTSTAMP:20260424T200730
CREATED:20220519T145751Z
LAST-MODIFIED:20220527T113634Z
UID:7275-1655492400-1655499600@www.ihfa.ie
SUMMARY:Stock Judging - Galway Club
DESCRIPTION:Galway Club Stock Judging will be hosted by Sean Monahan\, Gloves herd\, Athenry\, Co. Galway. H65 TY89 on Friday 17th June. Starting at 7pm sharp
URL:https://www.ihfa.ie/events-cal/stock-judging-galway-club/
END:VEVENT
BEGIN:VEVENT
DTSTART;TZID=UTC:20220614T190000
DTEND;TZID=UTC:20220614T210000
DTSTAMP:20260424T200730
CREATED:20220519T145936Z
LAST-MODIFIED:20220519T145936Z
UID:7277-1655233200-1655240400@www.ihfa.ie
SUMMARY:Stock Judging - Donegal Club 
DESCRIPTION:Donegal Club Stock Judging is being hosted by Alan Macbeth\, Monien herd\, Ballindrait\, Lifford. F93 YP98 on Tuesday June 14th. Starting at 7pm sharp.
URL:https://www.ihfa.ie/events-cal/stock-judging-donegal-club/
END:VEVENT
BEGIN:VEVENT
DTSTART;TZID=UTC:20220612T100000
DTEND;TZID=UTC:20220612T170000
DTSTAMP:20260424T200730
CREATED:20220509T111611Z
LAST-MODIFIED:20220509T111652Z
UID:7174-1655028000-1655053200@www.ihfa.ie
SUMMARY:Clonakilty Agricultural Show
DESCRIPTION:For full details visit the Show’s Facebook page https://m.facebook.com/ClonakiltyShow/ \n 
URL:https://www.ihfa.ie/events-cal/clonakilty-agricultural-show/
END:VEVENT
BEGIN:VEVENT
DTSTART;TZID=UTC:20220609T190000
DTEND;TZID=UTC:20220609T210000
DTSTAMP:20260424T200730
CREATED:20220523T090342Z
LAST-MODIFIED:20220523T092029Z
UID:7316-1654801200-1654808400@www.ihfa.ie
SUMMARY:Field Evening & Stock Judging - Slaney Club
DESCRIPTION:Slaney Club are holding a stock judging and field evening the farm of John & Amanda Mooney’s Reynolds Herd\, Ashford\, Co. Wicklow\, A67HR52\, on Thursday 9th June at 7pm. \nAll welcome!
URL:https://www.ihfa.ie/events-cal/7316/
END:VEVENT
BEGIN:VEVENT
DTSTART;TZID=UTC:20220608T190000
DTEND;TZID=UTC:20220608T203000
DTSTAMP:20260424T200730
CREATED:20220517T085213Z
LAST-MODIFIED:20220609T133653Z
UID:7233-1654714800-1654720200@www.ihfa.ie
SUMMARY:Field Evening - Laois Offaly Friesian Breeders Club
DESCRIPTION:The Laois Offaly Friesian Breeders Club are hosting a field evening on June 8th\, being held on the farm of Willie Seale and Family of the Attanagh Herd.
URL:https://www.ihfa.ie/events-cal/field-evening-laois-offaly-friesian-breeders-club/
END:VEVENT
BEGIN:VEVENT
DTSTART;TZID=UTC:20220608T100000
DTEND;TZID=UTC:20220608T160000
DTSTAMP:20260424T200730
CREATED:20220517T100955Z
LAST-MODIFIED:20220517T100955Z
UID:7240-1654682400-1654704000@www.ihfa.ie
SUMMARY:Dalevalley Sky-High Protein Sale
DESCRIPTION:Sale by Taaffe Auctions. See https://taaffeauctions.com/livestock_profile.php#list-upcoming \nfor sale catalogue
URL:https://www.ihfa.ie/events-cal/dalevalley-sky-high-protein-sale/
END:VEVENT
BEGIN:VEVENT
DTSTART;TZID=UTC:20220531T070000
DTEND;TZID=UTC:20220531T210000
DTSTAMP:20260424T200730
CREATED:20220523T090206Z
LAST-MODIFIED:20220523T090206Z
UID:7314-1653980400-1654030800@www.ihfa.ie
SUMMARY:Field Evening & Stock Judging - Slaney Club
DESCRIPTION:Slaney Club are holding a stock judging and field evening the farm of Sean & Breda Murphy’s Knoxtown Herd\, Rathfardon\, Clonroche\, Co Wexford Y21NT65\, on Tuesday 31st May at 7pm. \nAll welcome!
URL:https://www.ihfa.ie/events-cal/field-evening-stock-judging-slaney-club/
END:VEVENT
BEGIN:VEVENT
DTSTART;TZID=UTC:20220529T120000
DTEND;TZID=UTC:20220529T140000
DTSTAMP:20260424T200730
CREATED:20220517T084452Z
LAST-MODIFIED:20220518T083623Z
UID:7231-1653825600-1653832800@www.ihfa.ie
SUMMARY:Stock Judging - Limerick Clare Friesian Breeders Club
DESCRIPTION:Limerick/Clare Friesian Breeders club are delighted to announce that we will hold our annual stock judging event on the farm of Rosaleen O’Reilly\, Quinn\, Co. Clare on Sunday the 29th May. \nStock judging will take place from 12pm to 2pm with prizes been awarded at 3pm. looking forward to seen you all on the day.
URL:https://www.ihfa.ie/events-cal/stock-judging-limerick-clare-friesian-breeders-club/
END:VEVENT
BEGIN:VEVENT
DTSTART;TZID=UTC:20220529T100000
DTEND;TZID=UTC:20220529T160000
DTSTAMP:20260424T200730
CREATED:20220517T102436Z
LAST-MODIFIED:20220517T102436Z
UID:7244-1653818400-1653840000@www.ihfa.ie
SUMMARY:Midleton Show
DESCRIPTION:The Midleton Show is being held at Copperstown\, Midleton\, Co.  Cork on Sunday May 29th. \nEntries – http://midletonshow.com \nUpdates – https://www.facebook.com/Midleton-Agricultural-Show-313118085430235/
URL:https://www.ihfa.ie/events-cal/midleton-show/
END:VEVENT
BEGIN:VEVENT
DTSTART;TZID=UTC:20220510T140000
DTEND;TZID=UTC:20220510T153000
DTSTAMP:20260424T200730
CREATED:20220425T113748Z
LAST-MODIFIED:20220425T113748Z
UID:7058-1652191200-1652196600@www.ihfa.ie
SUMMARY:IHFA AGM
DESCRIPTION:The IHFA AGM is being held on Tuesday 10th May in the Knightsbrook Hotel\, Dublin Road\, Trim\, Co. Meath at 2pm. \nAll welcome.
URL:https://www.ihfa.ie/events-cal/ihfa-agm/
END:VEVENT
BEGIN:VEVENT
DTSTART;TZID=UTC:20220423T100000
DTEND;TZID=UTC:20220423T170000
DTSTAMP:20260424T200730
CREATED:20211215T144002Z
LAST-MODIFIED:20220211T101849Z
UID:6674-1650708000-1650733200@www.ihfa.ie
SUMMARY:Emerald Expo 2022
DESCRIPTION:Emerald Expo will take place on Saturday April 23rd 2022. The venue is the Virginia Showgrounds\, Co. Cavan. We look forward to the return of this Spring event featuring a strong line-up of classes. Title sponsor is FBD Insurance\, a strong prize fund will be on offer.
URL:https://www.ihfa.ie/events-cal/emerald-expo-2022/
END:VEVENT
BEGIN:VEVENT
DTSTART;TZID=UTC:20220414T103000
DTEND;TZID=UTC:20220414T143000
DTSTAMP:20260424T200730
CREATED:20220408T163530Z
LAST-MODIFIED:20220408T163530Z
UID:6994-1649932200-1649946600@www.ihfa.ie
SUMMARY:Kerry Club Bull Sale
DESCRIPTION:46th Annual Bull Show & Sale at Gortatlea Mart on Thursday 14th of April 2022
URL:https://www.ihfa.ie/events-cal/kerry-club-bull-sale/
END:VEVENT
BEGIN:VEVENT
DTSTART;TZID=UTC:20220409T120000
DTEND;TZID=UTC:20220409T150000
DTSTAMP:20260424T200730
CREATED:20220405T090503Z
LAST-MODIFIED:20220405T090503Z
UID:6979-1649505600-1649516400@www.ihfa.ie
SUMMARY:Corristoona Herd Dispersal Sale
DESCRIPTION:Corristoona Herd Dispersal Sale is being held in Roscommon Mart on Saturday 9th of April at 12 noon sharp. \nComprising 90 cows\, 19 maiden heifers and 20 calves which are all AI bred. \nAll queries to Michael Taaffe auctioneers 086 2545132 or John Carley on 087 9053437. \nProceeds from the sale of one maiden heifer will be donated to Hospice on the day of the sale. Full catalogue available here – \nhttps://issuu.com/taaffeauctions/docs/carley_sale_april_2022_web
URL:https://www.ihfa.ie/events-cal/corristoona-herd-dispersal-sale/
END:VEVENT
BEGIN:VEVENT
DTSTART;TZID=UTC:20220402T103000
DTEND;TZID=UTC:20220402T163000
DTSTAMP:20260424T200730
CREATED:20220316T120405Z
LAST-MODIFIED:20220328T161441Z
UID:6960-1648895400-1648917000@www.ihfa.ie
SUMMARY:YMA - Getting back to basics - Skills Refresher
DESCRIPTION:‘Getting back to basics\, a skills refresher’ is a workshop for IHFA YMA members. \nIt will be held on Saturday 2nd April at Gurteen Agricultural College\, Ballingarry\, Roscrea\, Co. Tipperary  at 10.30am. \nThere will be an demo on preparing an animal for showing \nWashing\nClipping\nLeading\nShowmanship\nTalk on farm safety \nContact 023 8833443
URL:https://www.ihfa.ie/events-cal/yma-getting-back-to-basics-skills-refresher/
END:VEVENT
BEGIN:VEVENT
DTSTART;TZID=UTC:20220331T113000
DTEND;TZID=UTC:20220331T180000
DTSTAMP:20260424T200730
CREATED:20220316T123901Z
LAST-MODIFIED:20220324T160644Z
UID:6962-1648726200-1648749600@www.ihfa.ie
SUMMARY:Fortlands Herd Dispersal Sale
DESCRIPTION:Fortlands Herd of James O’Connor is holding a dispersal sale from Kilmallock Mart on Thursday 31st March at 11.30am. \n160 head are on offer including 70 fresh calved\, 20 incalf autumn calves\, 27 breeding heifers\, 30 heifer calves\, 2 stock bulls and 10 in calf spring calvers. \nHerd averages – 7\,626kgs milk\, 3.71%bf\, 3.29%pr\, 261 scc\, 545kgs combined solids \nView full catalogue HERE \nAll enquiries – 063 98050
URL:https://www.ihfa.ie/events-cal/fortlands-herd-dispersal-sale/
END:VEVENT
BEGIN:VEVENT
DTSTART;TZID=UTC:20220330T100000
DTEND;TZID=UTC:20220330T170000
DTSTAMP:20260424T200730
CREATED:20211215T143823Z
LAST-MODIFIED:20220324T102746Z
UID:6672-1648634400-1648659600@www.ihfa.ie
SUMMARY:IHFA Premier Bull Show & Sale
DESCRIPTION:The IHFA Premier Bull Show & Sale is being held at Central Auctions\, Nenagh Livestock Mart on Wednesday 30th of March 2022.
URL:https://www.ihfa.ie/events-cal/ihfa-premier-bull-show-sale/
END:VEVENT
END:VCALENDAR