BEGIN:VCALENDAR
VERSION:2.0
PRODID:-//IHFA - ECPv6.15.20//NONSGML v1.0//EN
CALSCALE:GREGORIAN
METHOD:PUBLISH
X-WR-CALNAME:IHFA
X-ORIGINAL-URL:https://www.ihfa.ie
X-WR-CALDESC:Events for IHFA
REFRESH-INTERVAL;VALUE=DURATION:PT1H
X-Robots-Tag:noindex
X-PUBLISHED-TTL:PT1H
BEGIN:VTIMEZONE
TZID:UTC
BEGIN:STANDARD
TZOFFSETFROM:+0000
TZOFFSETTO:+0000
TZNAME:UTC
DTSTART:20200101T000000
END:STANDARD
END:VTIMEZONE
BEGIN:VEVENT
DTSTART;TZID=UTC:20220608T190000
DTEND;TZID=UTC:20220608T203000
DTSTAMP:20260425T005449
CREATED:20220517T085213Z
LAST-MODIFIED:20220609T133653Z
UID:7233-1654714800-1654720200@www.ihfa.ie
SUMMARY:Field Evening - Laois Offaly Friesian Breeders Club
DESCRIPTION:The Laois Offaly Friesian Breeders Club are hosting a field evening on June 8th\, being held on the farm of Willie Seale and Family of the Attanagh Herd.
URL:https://www.ihfa.ie/events-cal/field-evening-laois-offaly-friesian-breeders-club/
END:VEVENT
BEGIN:VEVENT
DTSTART;TZID=UTC:20220608T100000
DTEND;TZID=UTC:20220608T160000
DTSTAMP:20260425T005449
CREATED:20220517T100955Z
LAST-MODIFIED:20220517T100955Z
UID:7240-1654682400-1654704000@www.ihfa.ie
SUMMARY:Dalevalley Sky-High Protein Sale
DESCRIPTION:Sale by Taaffe Auctions. See https://taaffeauctions.com/livestock_profile.php#list-upcoming \nfor sale catalogue
URL:https://www.ihfa.ie/events-cal/dalevalley-sky-high-protein-sale/
END:VEVENT
BEGIN:VEVENT
DTSTART;TZID=UTC:20220531T070000
DTEND;TZID=UTC:20220531T210000
DTSTAMP:20260425T005449
CREATED:20220523T090206Z
LAST-MODIFIED:20220523T090206Z
UID:7314-1653980400-1654030800@www.ihfa.ie
SUMMARY:Field Evening & Stock Judging - Slaney Club
DESCRIPTION:Slaney Club are holding a stock judging and field evening the farm of Sean & Breda Murphy’s Knoxtown Herd\, Rathfardon\, Clonroche\, Co Wexford Y21NT65\, on Tuesday 31st May at 7pm. \nAll welcome!
URL:https://www.ihfa.ie/events-cal/field-evening-stock-judging-slaney-club/
END:VEVENT
BEGIN:VEVENT
DTSTART;TZID=UTC:20220529T120000
DTEND;TZID=UTC:20220529T140000
DTSTAMP:20260425T005449
CREATED:20220517T084452Z
LAST-MODIFIED:20220518T083623Z
UID:7231-1653825600-1653832800@www.ihfa.ie
SUMMARY:Stock Judging - Limerick Clare Friesian Breeders Club
DESCRIPTION:Limerick/Clare Friesian Breeders club are delighted to announce that we will hold our annual stock judging event on the farm of Rosaleen O’Reilly\, Quinn\, Co. Clare on Sunday the 29th May. \nStock judging will take place from 12pm to 2pm with prizes been awarded at 3pm. looking forward to seen you all on the day.
URL:https://www.ihfa.ie/events-cal/stock-judging-limerick-clare-friesian-breeders-club/
END:VEVENT
BEGIN:VEVENT
DTSTART;TZID=UTC:20220529T100000
DTEND;TZID=UTC:20220529T160000
DTSTAMP:20260425T005449
CREATED:20220517T102436Z
LAST-MODIFIED:20220517T102436Z
UID:7244-1653818400-1653840000@www.ihfa.ie
SUMMARY:Midleton Show
DESCRIPTION:The Midleton Show is being held at Copperstown\, Midleton\, Co.  Cork on Sunday May 29th. \nEntries – http://midletonshow.com \nUpdates – https://www.facebook.com/Midleton-Agricultural-Show-313118085430235/
URL:https://www.ihfa.ie/events-cal/midleton-show/
END:VEVENT
BEGIN:VEVENT
DTSTART;TZID=UTC:20220510T140000
DTEND;TZID=UTC:20220510T153000
DTSTAMP:20260425T005449
CREATED:20220425T113748Z
LAST-MODIFIED:20220425T113748Z
UID:7058-1652191200-1652196600@www.ihfa.ie
SUMMARY:IHFA AGM
DESCRIPTION:The IHFA AGM is being held on Tuesday 10th May in the Knightsbrook Hotel\, Dublin Road\, Trim\, Co. Meath at 2pm. \nAll welcome.
URL:https://www.ihfa.ie/events-cal/ihfa-agm/
END:VEVENT
BEGIN:VEVENT
DTSTART;TZID=UTC:20220423T100000
DTEND;TZID=UTC:20220423T170000
DTSTAMP:20260425T005449
CREATED:20211215T144002Z
LAST-MODIFIED:20220211T101849Z
UID:6674-1650708000-1650733200@www.ihfa.ie
SUMMARY:Emerald Expo 2022
DESCRIPTION:Emerald Expo will take place on Saturday April 23rd 2022. The venue is the Virginia Showgrounds\, Co. Cavan. We look forward to the return of this Spring event featuring a strong line-up of classes. Title sponsor is FBD Insurance\, a strong prize fund will be on offer.
URL:https://www.ihfa.ie/events-cal/emerald-expo-2022/
END:VEVENT
BEGIN:VEVENT
DTSTART;TZID=UTC:20220414T103000
DTEND;TZID=UTC:20220414T143000
DTSTAMP:20260425T005449
CREATED:20220408T163530Z
LAST-MODIFIED:20220408T163530Z
UID:6994-1649932200-1649946600@www.ihfa.ie
SUMMARY:Kerry Club Bull Sale
DESCRIPTION:46th Annual Bull Show & Sale at Gortatlea Mart on Thursday 14th of April 2022
URL:https://www.ihfa.ie/events-cal/kerry-club-bull-sale/
END:VEVENT
BEGIN:VEVENT
DTSTART;TZID=UTC:20220409T120000
DTEND;TZID=UTC:20220409T150000
DTSTAMP:20260425T005449
CREATED:20220405T090503Z
LAST-MODIFIED:20220405T090503Z
UID:6979-1649505600-1649516400@www.ihfa.ie
SUMMARY:Corristoona Herd Dispersal Sale
DESCRIPTION:Corristoona Herd Dispersal Sale is being held in Roscommon Mart on Saturday 9th of April at 12 noon sharp. \nComprising 90 cows\, 19 maiden heifers and 20 calves which are all AI bred. \nAll queries to Michael Taaffe auctioneers 086 2545132 or John Carley on 087 9053437. \nProceeds from the sale of one maiden heifer will be donated to Hospice on the day of the sale. Full catalogue available here – \nhttps://issuu.com/taaffeauctions/docs/carley_sale_april_2022_web
URL:https://www.ihfa.ie/events-cal/corristoona-herd-dispersal-sale/
END:VEVENT
BEGIN:VEVENT
DTSTART;TZID=UTC:20220402T103000
DTEND;TZID=UTC:20220402T163000
DTSTAMP:20260425T005449
CREATED:20220316T120405Z
LAST-MODIFIED:20220328T161441Z
UID:6960-1648895400-1648917000@www.ihfa.ie
SUMMARY:YMA - Getting back to basics - Skills Refresher
DESCRIPTION:‘Getting back to basics\, a skills refresher’ is a workshop for IHFA YMA members. \nIt will be held on Saturday 2nd April at Gurteen Agricultural College\, Ballingarry\, Roscrea\, Co. Tipperary  at 10.30am. \nThere will be an demo on preparing an animal for showing \nWashing\nClipping\nLeading\nShowmanship\nTalk on farm safety \nContact 023 8833443
URL:https://www.ihfa.ie/events-cal/yma-getting-back-to-basics-skills-refresher/
END:VEVENT
BEGIN:VEVENT
DTSTART;TZID=UTC:20220331T113000
DTEND;TZID=UTC:20220331T180000
DTSTAMP:20260425T005449
CREATED:20220316T123901Z
LAST-MODIFIED:20220324T160644Z
UID:6962-1648726200-1648749600@www.ihfa.ie
SUMMARY:Fortlands Herd Dispersal Sale
DESCRIPTION:Fortlands Herd of James O’Connor is holding a dispersal sale from Kilmallock Mart on Thursday 31st March at 11.30am. \n160 head are on offer including 70 fresh calved\, 20 incalf autumn calves\, 27 breeding heifers\, 30 heifer calves\, 2 stock bulls and 10 in calf spring calvers. \nHerd averages – 7\,626kgs milk\, 3.71%bf\, 3.29%pr\, 261 scc\, 545kgs combined solids \nView full catalogue HERE \nAll enquiries – 063 98050
URL:https://www.ihfa.ie/events-cal/fortlands-herd-dispersal-sale/
END:VEVENT
BEGIN:VEVENT
DTSTART;TZID=UTC:20220330T100000
DTEND;TZID=UTC:20220330T170000
DTSTAMP:20260425T005449
CREATED:20211215T143823Z
LAST-MODIFIED:20220324T102746Z
UID:6672-1648634400-1648659600@www.ihfa.ie
SUMMARY:IHFA Premier Bull Show & Sale
DESCRIPTION:The IHFA Premier Bull Show & Sale is being held at Central Auctions\, Nenagh Livestock Mart on Wednesday 30th of March 2022.
URL:https://www.ihfa.ie/events-cal/ihfa-premier-bull-show-sale/
END:VEVENT
BEGIN:VEVENT
DTSTART;TZID=UTC:20220325T100000
DTEND;TZID=UTC:20220325T160000
DTSTAMP:20260425T005449
CREATED:20220214T161125Z
LAST-MODIFIED:20220214T161125Z
UID:6888-1648202400-1648224000@www.ihfa.ie
SUMMARY:Cork Club Production Sale
DESCRIPTION:Cork Club Production Sale is taking place on Friday\, March 25th at Corrin Mart\, Fermoy\, Co. Cork.
URL:https://www.ihfa.ie/events-cal/cork-club-production-sale/
END:VEVENT
BEGIN:VEVENT
DTSTART;TZID=UTC:20220321T120000
DTEND;TZID=UTC:20220321T150000
DTSTAMP:20260425T005449
CREATED:20220315T152418Z
LAST-MODIFIED:20220315T152418Z
UID:6956-1647864000-1647874800@www.ihfa.ie
SUMMARY:Curtles Herd Sale
DESCRIPTION:Curtles Herd Sale is taking place online from the farm on Monday 21st of March at 12 noon sharp. \nViewing by appointment on marteyeballyjamesduff or contact John Tevlin on 086 8205371 \nView sale catalogue by clicking here
URL:https://www.ihfa.ie/events-cal/curtles-herd-sale/
END:VEVENT
BEGIN:VEVENT
DTSTART;TZID=UTC:20220312T113000
DTEND;TZID=UTC:20220312T150000
DTSTAMP:20260425T005449
CREATED:20220311T110019Z
LAST-MODIFIED:20220311T110155Z
UID:6951-1647084600-1647097200@www.ihfa.ie
SUMMARY:Greenlaw Herd Sale
DESCRIPTION:Greenlaw Herd of Gerard and Mairead Curtin & Sons is being held on farm\, Eircode V92 P3F2\, on Saturday 12th March at 11.30am sharp. \nFor full details and catalogue\, CLICK HERE
URL:https://www.ihfa.ie/events-cal/greenlaw-herd-sale/
END:VEVENT
BEGIN:VEVENT
DTSTART;TZID=UTC:20220310T100000
DTEND;TZID=UTC:20220310T140000
DTSTAMP:20260425T005449
CREATED:20220302T111446Z
LAST-MODIFIED:20240223T131914Z
UID:6925-1646906400-1646920800@www.ihfa.ie
SUMMARY:Kerry Club Heifer Sale
DESCRIPTION:The Annual Kerry Club Heifer Sale is being held at Gortatlea Mart on Thursday 10th March. \nThere are 35 lots on offer\, all pedigree registered calved and in-calf heifers.
URL:https://www.ihfa.ie/events-cal/kerry-club-heifer-sale/
END:VEVENT
BEGIN:VEVENT
DTSTART;TZID=UTC:20220302T100000
DTEND;TZID=UTC:20220302T150000
DTSTAMP:20260425T005449
CREATED:20220214T160914Z
LAST-MODIFIED:20220214T160914Z
UID:6886-1646215200-1646233200@www.ihfa.ie
SUMMARY:Donegal Club Heifer Sale
DESCRIPTION:The Donegal Club Heifer Sale is being held at Raphoe Livestock mart\, Co. Donegal on Wednesday\, March 2nd at 10am – 3pm
URL:https://www.ihfa.ie/events-cal/donegal-club-heifer-sale/
END:VEVENT
BEGIN:VEVENT
DTSTART;VALUE=DATE:20220228
DTEND;VALUE=DATE:20220301
DTSTAMP:20260425T005449
CREATED:20220214T162020Z
LAST-MODIFIED:20220214T162118Z
UID:6890-1646006400-1646092799@www.ihfa.ie
SUMMARY:Bull Sale Entries - Closing date
DESCRIPTION:The Breed Development Committee has limited entries to four bulls per exhibitor.  \nEntries close MONDAY February 28th in order to allow for inspections. Entry forms and conditions here\nHowever\, the Association reserves the right to further restrict or accept additional entries per exhibitor with reference to prevailing market conditions & protein %.  \nEntry forms and conditions here\nPost / Fax entries to: IHFA\, Clonakilty\, Co. Cork  \nEmail entries to: events@ihfa.ie (provide animals tag no\, your phone no & any footnotes)  \nIHFA PREMIER BULL SHOW & SALE 2022  \nLive streaming of Sale with Online Bidding facility.  \nNENAGH LIVESTOCK MART\, WEDNESDAY 30TH MARCH 2022  \nAll entries catalogued will be promoted in IFJ as a Genomic Sale  \nEntry forms and conditions here
URL:https://www.ihfa.ie/events-cal/bull-sale-entries-closing-date/
END:VEVENT
BEGIN:VEVENT
DTSTART;TZID=UTC:20220215T113000
DTEND;TZID=UTC:20220215T133000
DTSTAMP:20260425T005449
CREATED:20220208T173459Z
LAST-MODIFIED:20220215T102248Z
UID:6879-1644924600-1644931800@www.ihfa.ie
SUMMARY:Ashberry Herd - Dairy Clearance Sale
DESCRIPTION:Dairy Clearance Sale on behalf of the Moore family Ballymacarbry. 100 P.B.freshly calved cows. All Genotyped. Herd in top 3% on EBI. Selling in Cashel Mart on Tuesday the 15th of Feb at 11:30.Further info Contact Cashel Mart 062 62500. \nClick here for sales catalogue.
URL:https://www.ihfa.ie/events-cal/ashbury-herd-dairy-clearance-sale/
END:VEVENT
BEGIN:VEVENT
DTSTART;TZID=UTC:20220111T113000
DTEND;TZID=UTC:20220111T133000
DTSTAMP:20260425T005449
CREATED:20220107T154043Z
LAST-MODIFIED:20220107T154043Z
UID:6757-1641900600-1641907800@www.ihfa.ie
SUMMARY:Coradonagh Herd Dispersal Sale
DESCRIPTION:Coradonagh Herd Dispersal Sale will be held in Ballyjamesduff Mart on Tuesday 11th of January 2022 at 11am. \nLots comprising 30 females. For sale catalogue\, click here. \nAll enquiries to Eugene on 086 3842056.
URL:https://www.ihfa.ie/events-cal/coradonagh-herd-dispersal-sale/
END:VEVENT
BEGIN:VEVENT
DTSTART;TZID=UTC:20211030T100000
DTEND;TZID=UTC:20211030T150000
DTSTAMP:20260425T005449
CREATED:20210930T131559Z
LAST-MODIFIED:20211012T082908Z
UID:5844-1635588000-1635606000@www.ihfa.ie
SUMMARY:Monamore Annual Draft Sale
DESCRIPTION:Tom\, Rhona and James Kelly of Monamore Herd will hold their annual draft sale on Saturday 30th October in Carnaross Mart\, Kells\, Co. Meath A82 AP90
URL:https://www.ihfa.ie/events-cal/monamore-annual-draft-sale/
END:VEVENT
BEGIN:VEVENT
DTSTART;TZID=UTC:20211023T100000
DTEND;TZID=UTC:20211023T150000
DTSTAMP:20260425T005449
CREATED:20210930T131002Z
LAST-MODIFIED:20211012T082838Z
UID:5838-1634983200-1635001200@www.ihfa.ie
SUMMARY:Mohoncross Young Stock Sale
DESCRIPTION:Jerry Hegarty of Mohoncross Herd\, Churchcross\, Skibbereen\, Co. Cork\, is holding an on farm sale of young stock on Saturday 23rd of October.
URL:https://www.ihfa.ie/events-cal/mohoncross-young-stock-sale/
END:VEVENT
BEGIN:VEVENT
DTSTART;TZID=UTC:20211021T183000
DTEND;TZID=UTC:20211021T213000
DTSTAMP:20260425T005449
CREATED:20210930T131424Z
LAST-MODIFIED:20210930T131424Z
UID:5842-1634841000-1634851800@www.ihfa.ie
SUMMARY:National Dairy Show
DESCRIPTION:The National Dairy Show is going virtual again this year. It will be held over two evenings and will comprise of stock judging\, discussion and trade insights. For a full look at the event schedule visit https://nationaldairyshow.ie/agenda/ 
URL:https://www.ihfa.ie/events-cal/national-dairy-show-2/
END:VEVENT
BEGIN:VEVENT
DTSTART;TZID=UTC:20211020T183000
DTEND;TZID=UTC:20211020T213000
DTSTAMP:20260425T005449
CREATED:20210930T131350Z
LAST-MODIFIED:20210930T131639Z
UID:5840-1634754600-1634765400@www.ihfa.ie
SUMMARY:National Dairy Show
DESCRIPTION:The National Dairy Show is going virtual again this year. It will be held over two evenings and will comprise of stock judging\, discussion and trade insights. For a full look at the event schedule visit https://nationaldairyshow.ie/agenda/ 
URL:https://www.ihfa.ie/events-cal/national-dairy-show/
END:VEVENT
BEGIN:VEVENT
DTSTART;TZID=UTC:20211020T120000
DTEND;TZID=UTC:20211020T150000
DTSTAMP:20260425T005449
CREATED:20211012T083010Z
LAST-MODIFIED:20211012T083010Z
UID:6063-1634731200-1634742000@www.ihfa.ie
SUMMARY:Brookfield Herd Young Stock Sale
DESCRIPTION:The Brookfield Herd of Andre Revington\, Co. Westmeath will be held at 12 noon sharp on Wednesday October 20th from Carnaross Mart\, Kells\, Co. Meath A82 AP90. \nSale catalogue available to view here
URL:https://www.ihfa.ie/events-cal/brookfield-herd-young-stock-sale/
END:VEVENT
BEGIN:VEVENT
DTSTART;TZID=UTC:20211009T090000
DTEND;TZID=UTC:20211009T150000
DTSTAMP:20260425T005449
CREATED:20210923T112000Z
LAST-MODIFIED:20210929T143559Z
UID:5341-1633770000-1633791600@www.ihfa.ie
SUMMARY:Lisduff Sale 2021
DESCRIPTION:The Lisduff Sale 2021 is being held at Cork Marts\, Corrin\, on Saturday\, 9th October 2021 \nThe sale comprises 155 lots\, including freshly calved\, spring calving heifers and heifer calves. \nViewing from 9am on the day. Sale at 12 noon\, sharp. \nIt is also possible to Bid On-line through LSL Livestock Live App – https://www.livestock-live.com \nRingside capacity will be in line with guidelines on the day of the sale. \nFor full sale information see the sale catalogue below.
URL:https://www.ihfa.ie/events-cal/lisduff-sale-2021/
END:VEVENT
BEGIN:VEVENT
DTSTART;TZID=UTC:20210820T080000
DTEND;TZID=UTC:20210820T170000
DTSTAMP:20260425T005449
CREATED:20210820T102827Z
LAST-MODIFIED:20210821T135237Z
UID:2172-1629446400-1629478800@www.ihfa.ie
SUMMARY:43rd IHFA Premier Bull Show and Sale
DESCRIPTION:The IHFA Premier Bull Show and Sale is being held at Nenagh Livestock Mart on Wednesday 28th March. Judging begins at 10.30am and the Sale starts at 12.30pm.\n \n\n\n\n\n 
URL:https://www.ihfa.ie/events-cal/43rd-ihfa-premier-bull-show-and-sale/
CATEGORIES:Premier Bull Show & Sale
ATTACH;FMTTYPE=image/jpeg:https://www.ihfa.ie/wp-content/uploads/2021/08/Bull-sale-full-page-ad-2018-530x690-1.jpeg
END:VEVENT
BEGIN:VEVENT
DTSTART;TZID=UTC:20210820T080000
DTEND;TZID=UTC:20210820T170000
DTSTAMP:20260425T005449
CREATED:20210820T102702Z
LAST-MODIFIED:20210820T102702Z
UID:2169-1629446400-1629478800@www.ihfa.ie
SUMMARY:43rd IHFA Premier Bull Show & Sale
DESCRIPTION:92% Clearance with average of €3\,100 \n \nChampion Mountfarna Jetway with breeder John O’Callaghan on halter\, pictured with Charles Gallagher IHFA CE and Kathleen Watson\, IHFA President. \n\nStrong demand from buyers ensured a very brisk trade at the IHFA Premier Bull Sale. There was a 92% clearance rate with an average price of €3\,100. 26 bulls were present with 24 bulls sold on the day. Buyers from across the four provinces made the journey in pursuit of sourcing a top calibre Holstein Friesian sire for the breeding season. Quality bulls with a balance of conformation\, production\, protein and cow family performance was in demand. \nChampion – Mountfarna Jetway owned by John O’ Callaghan sold for €6\,100\nReserve – Mountfarna Jetstream owned by John O’ Callaghan sold for €5\,300\nHonourable Mention – Monamore Dresden 2 owned by James Kelly sold for €3\,000 \nAll bulls were pre-inspected following IHFA qualification criteria for production and conformation standards. All bulls were genotyped with parentage verified through DNA. Highest EBI presentations were awarded to the top bulls in the three showing classes. \nMy thanks to Pat Frawley\, Croagh Herd\, for doing the honours of judging. He placed strong emphasis on feet & legs and also selected bulls for dairy strength. \nChampion\, Mountfarna Jetway is bred from a VG87 dam with the next three dams all scored EX (Excellent) on conformation. His dam Mountfarna Seaver Fay produced 989kgs milk solids in her 2nd lactation. \nReserve Champion Mountfarna Jetstream is backed by a high protein maternal line. His dam\, Mountfarna Twist Posy VG87\, has averaged 3.54% protein with two lactations over 10\,000kgs milk. His grand dam has protein to 3.76%. \nHenry O’ Keeffe\, Radney herd had a very successful outing achieving an average price of €3\,550. Radney Raymond sold for €5\,200. Bred from the Odetta family he is backed by an EX91 3E dam and EX93 7E grand dam having protein to 3.90%. The Odetta family has been very successful for the O’Keeffe family with numerous bulls purchased for AI. Sired by Mr. Grey this September born bull is +0.03% protein P.T.A. \nRadney Neymar\, Lot 1 in the sale sold for €3\,400. Both his dam Radney Ramos Bella VG87 and grand dam Radney DUT Bella EX90 have protein over 4.00%. \nThere was strong demand for Monamore breeding with Monamore Varnish (lot 4) selling for €3\,100 and Monamore Dresden 2 (Honourable Mention) and Monamore Rintintin both selling for €3\,000. \nAn overview of other prices includes; \n•Lisnalty Magul 28 (Lot 22) owned by Paul Hannan was 1st in his class and sold for €3\,600.\n•Mountfarna Real Deal (lot 20) owned by John O’ Callaghan sold for €3\,300.\n•Hallow Zzle (lot 11) owned by Philip & Linda Jones sold for €3\,100. Dam Hallow Advent Twizzle EX96 4E was Supreme Champion Emerald Expo\, Baileys Champion and IHFA Champion Cow 2016.\n•Reary Kidd (lot 28) owned by Kevin Flynn sold for €3\,100. Bred from three generations of EX dams with Reary Norah 190 EX91 (dam) having protein to 4.06%.\n•Hallow Diamondbrace (lot 2) owned by Philip & Linda Jones sold for €3\,000. Grand dam Desmond Dundee Embrace EX95 is former Supreme Champion Royal Ulster Winter Fair.\n•Mylawn Dan The Man (lot 13) owned by Michael Healy sold for €2\,600. He is a half-brother to the AI sire Mylawn Fintan (FR2420). \nMy thanks to Denis Barrett\, Auctioneer and Central Auctions\, Nenagh Mart\, for use of the premises. Thanks to John Kirby – steward\, IHFA and mart staff.
URL:https://www.ihfa.ie/events-cal/43rd-ihfa-premier-bull-show-sale/
CATEGORIES:Premier Bull Show & Sale
ATTACH;FMTTYPE=image/jpeg:https://www.ihfa.ie/wp-content/uploads/2021/08/DSC02422-530x443-1.jpeg
END:VEVENT
BEGIN:VEVENT
DTSTART;TZID=UTC:20210820T080000
DTEND;TZID=UTC:20210820T170000
DTSTAMP:20260425T005449
CREATED:20210820T102531Z
LAST-MODIFIED:20210820T102531Z
UID:2163-1629446400-1629478800@www.ihfa.ie
SUMMARY:45th Annual IHFA Premier Bull Show & Sale – Entries Open
DESCRIPTION:Rickey Barrett with last year’s Champion bull\nEntries are now open for the 45th Annual IHFA Premier Bull Show & Sale. \nIHFA PREMIER BULL SALE STANDARDS OF ENTRY\nNENAGH LIVESTOCK MART\, FRIDAY 3RD APRIL 2020\nAll entries catalogued will be promoted in IFJ as a Genomic Sale\ \nHEALTH REQUIREMENTS\n• All entrants must be within 60 day TB test\n• All animals must be BVD tested\n• Bulls showing visible signs of ringworm will not be allowed to compete \nMINIMUM STANDARDS OF ENTRY\n• Both the dam & g. dam must be classified GP83 or better\n• The dam to have a minimum of 600kgs combined fat & protein (total solids)\n• Dam on 1st lactation (heifers)\, a minimum of 500kgs combined fat & protein will qualify\n• Pure Friesian dam to have a minimum of 500kgs combined fat & protein (total solids)\n• Pedigree Certificates must be issued for all entrants.\n• All bulls must be positive on EBI \nCLASSES\n• Holstein Friesian Classes (born between August 2018 & Feb 2019) (These entries will be divided equally into 4 classes)\n• EBI Award in each class \nPRE-INSPECTION\nAll bulls will be pre-inspected before the sale to determine that they are of a quality standard for a Premier Sale. \nENTRIES\nTo facilitate any extra information\, an exhibitor who so wishes may submit any extra relevant information and up to a maximum of three photographs. This information will be printed opposite the bull’s pedigree. \nComplete this form and Post / Fax entries to: IHFA\, Clonakilty\, Co. Cork \nEmail entries to: cgriffin@ihfa.ie (provide animals tag no\, your phone no & any footnotes) \nOwnership details will be catalogued in accordance with CMMS data. \nEntries close FRIDAY 28th FEBRUARY in order to allow for inspections.\nENTRY FEE = €50. If you wish to include an ‘Extra information page’ in the catalogue\, there is an additional cost of €30 per page. (Fees will be taken by direct debit) \nThe Breed Development Committee has limited entries to four bulls per exhibitor. However\, the Association reserves the right to further restrict or accept additional entries per exhibitor with reference to prevailing market conditions & protein %.
URL:https://www.ihfa.ie/events-cal/45th-annual-ihfa-premier-bull-show-sale-entries-open/
CATEGORIES:Premier Bull Show & Sale
ATTACH;FMTTYPE=image/jpeg:https://www.ihfa.ie/wp-content/uploads/2021/08/A-DSC_2864-768x409-1.jpeg
END:VEVENT
BEGIN:VEVENT
DTSTART;TZID=UTC:20210820T080000
DTEND;TZID=UTC:20210820T170000
DTSTAMP:20260425T005449
CREATED:20210820T102456Z
LAST-MODIFIED:20210820T102456Z
UID:2161-1629446400-1629478800@www.ihfa.ie
SUMMARY:IHFA Premier Bull Show & Sale – Bulls for Sale
DESCRIPTION:Due to the outbreak of COVID-19 and the precautionary measures necessary to ensure public safety\, the IHFA Premier Bull Show & Sale has been cancelled. To accommodate the breeders and make available these high quality pedigree registered Holstein Friesian bulls\, we are posting the details of these bulls here for view. Click HERE for a list of lots and see the SALE CATALOGUE for further details. \nIf you are interested in purchasing stock from this sale\, please contact our field officers to be put in contact with the breeders or email the IHFA office on enquiries@ihfa.ie. Contact numbers for the field officers are as follows – \nJohn Kirby – 086 1702040\, Paul Boal – 086 3838648\, Shane McHugh – 086 0583922
URL:https://www.ihfa.ie/events-cal/ihfa-premier-bull-show-sale-bulls-for-sale/
CATEGORIES:Premier Bull Show & Sale
END:VEVENT
END:VCALENDAR