BEGIN:VCALENDAR
VERSION:2.0
PRODID:-//IHFA - ECPv6.15.20//NONSGML v1.0//EN
CALSCALE:GREGORIAN
METHOD:PUBLISH
X-WR-CALNAME:IHFA
X-ORIGINAL-URL:https://www.ihfa.ie
X-WR-CALDESC:Events for IHFA
REFRESH-INTERVAL;VALUE=DURATION:PT1H
X-Robots-Tag:noindex
X-PUBLISHED-TTL:PT1H
BEGIN:VTIMEZONE
TZID:UTC
BEGIN:STANDARD
TZOFFSETFROM:+0000
TZOFFSETTO:+0000
TZNAME:UTC
DTSTART:20240101T000000
END:STANDARD
END:VTIMEZONE
BEGIN:VEVENT
DTSTART;VALUE=DATE:20250705
DTEND;VALUE=DATE:20250706
DTSTAMP:20260422T191205
CREATED:20250530T135222Z
LAST-MODIFIED:20250530T135316Z
UID:11086-1751673600-1751759999@www.ihfa.ie
SUMMARY:Laois/Offaly Calf Show
DESCRIPTION:The Laois/Offaly club will host their calf show qualifier on Saturday the 5th of July in Tullamore Mart\, starting at 11.30am.
URL:https://www.ihfa.ie/events-cal/laois-offaly-calf-show-2/
END:VEVENT
BEGIN:VEVENT
DTSTART;VALUE=DATE:20250705
DTEND;VALUE=DATE:20250706
DTSTAMP:20260422T191205
CREATED:20250530T134020Z
LAST-MODIFIED:20250530T134606Z
UID:11075-1751673600-1751759999@www.ihfa.ie
SUMMARY:Kerry Calf Show
DESCRIPTION:The Kerry club will host their calf show qualifier in Barrons Agri\, Ballynaskreena\, Co. Kerry on the 5th of July.
URL:https://www.ihfa.ie/events-cal/galway-calf-show/
END:VEVENT
BEGIN:VEVENT
DTSTART;VALUE=DATE:20250704
DTEND;VALUE=DATE:20250705
DTSTAMP:20260422T191205
CREATED:20250530T134719Z
LAST-MODIFIED:20250530T144504Z
UID:11081-1751587200-1751673599@www.ihfa.ie
SUMMARY:Carlow/Kilkenny Calf Show Qualifier
DESCRIPTION:Carlow/Kilkenny club will host their calf show qualifier @ 6.30 on Friday the 4th of July\, in Kilkenny Mart
URL:https://www.ihfa.ie/events-cal/carlow-kilkenny-calf-show-qualifier/
END:VEVENT
BEGIN:VEVENT
DTSTART;VALUE=DATE:20250703
DTEND;VALUE=DATE:20250704
DTSTAMP:20260422T191205
CREATED:20250512T112404Z
LAST-MODIFIED:20250521T081129Z
UID:11028-1751500800-1751587199@www.ihfa.ie
SUMMARY:Laois/Offaly Club Field Evening - Pat Fitzpatrick
DESCRIPTION:Laois/Offaly club will hold a field evening on Patrick Fitzpatrick’s Shanafin Herd\, R35 EP46 on the 3rd of July at 7.30pm.
URL:https://www.ihfa.ie/events-cal/laois-offaly-club-field-evening-pat-fitzpatrick/
END:VEVENT
BEGIN:VEVENT
DTSTART;VALUE=DATE:20250630
DTEND;VALUE=DATE:20250701
DTSTAMP:20260422T191205
CREATED:20250310T154448Z
LAST-MODIFIED:20250530T135029Z
UID:10916-1751241600-1751327999@www.ihfa.ie
SUMMARY:Cork Calf Show
DESCRIPTION:The Cork club will host their calf show qualifier on Monday the 30th of June in Greybrook West Equine Centre\, Kilbrittan starting at 5pm sharp.
URL:https://www.ihfa.ie/events-cal/cork-national-yma-finals-qualifier/
END:VEVENT
BEGIN:VEVENT
DTSTART;TZID=UTC:20250628T080000
DTEND;TZID=UTC:20250629T170000
DTSTAMP:20260422T191205
CREATED:20250530T142248Z
LAST-MODIFIED:20250530T142248Z
UID:11113-1751097600-1751216400@www.ihfa.ie
SUMMARY:Charleville Show
DESCRIPTION:
URL:https://www.ihfa.ie/events-cal/charleville-show-2/
END:VEVENT
BEGIN:VEVENT
DTSTART;VALUE=DATE:20250626
DTEND;VALUE=DATE:20250627
DTSTAMP:20260422T191205
CREATED:20250623T111106Z
LAST-MODIFIED:20250624T154114Z
UID:11238-1750896000-1750982399@www.ihfa.ie
SUMMARY:Carlow Kilkenny Club Field Evening - Sven Harenburg
DESCRIPTION:The Carlow Kilkenny Club will host a field evening at Sven Harenburg’s farm Ballycormick\, Bagenalstown\, Co. Carlow\, R21 YY31 at 7.30pm on Thursday the 26th of June
URL:https://www.ihfa.ie/events-cal/carlow-kilkenny-club-field-evening-sven-harenburg/
END:VEVENT
BEGIN:VEVENT
DTSTART;VALUE=DATE:20250626
DTEND;VALUE=DATE:20250627
DTSTAMP:20260422T191205
CREATED:20250530T094231Z
LAST-MODIFIED:20250530T132202Z
UID:11062-1750896000-1750982399@www.ihfa.ie
SUMMARY:Cork Club - Field Evening
DESCRIPTION:Cork Club Field Evening on Thursday 26th June @ 7pm \nAt Eedy Holsteins\, kindly hosted by Robert\, Sylvia\, Jason and Laura Helen. \nLisroe\, Lyre\, Clonakilty\, Co. Cork\, P85 KR84
URL:https://www.ihfa.ie/events-cal/cork-club-field-evening-3/
END:VEVENT
BEGIN:VEVENT
DTSTART;VALUE=DATE:20250625
DTEND;VALUE=DATE:20250626
DTSTAMP:20260422T191205
CREATED:20250530T131827Z
LAST-MODIFIED:20250530T132109Z
UID:11066-1750809600-1750895999@www.ihfa.ie
SUMMARY:North Eastern Club Field Evening - Michael & Joe Connell
DESCRIPTION:The North Eastern Club will host a field evening at Michael & Joe Connell’s farm\, Grange\, Ballyboughal\, Co Dublin\, A41 RW26; at 7pm Wednesday 25th June
URL:https://www.ihfa.ie/events-cal/north-eastern-club-field-evening-3/
END:VEVENT
BEGIN:VEVENT
DTSTART;VALUE=DATE:20250622
DTEND;VALUE=DATE:20250623
DTSTAMP:20260422T191205
CREATED:20250530T142220Z
LAST-MODIFIED:20250530T142221Z
UID:11111-1750550400-1750636799@www.ihfa.ie
SUMMARY:Newcastlewest Show
DESCRIPTION:
URL:https://www.ihfa.ie/events-cal/newcastlewest-show/
END:VEVENT
BEGIN:VEVENT
DTSTART;VALUE=DATE:20250622
DTEND;VALUE=DATE:20250623
DTSTAMP:20260422T191205
CREATED:20250530T142156Z
LAST-MODIFIED:20250530T142157Z
UID:11109-1750550400-1750636799@www.ihfa.ie
SUMMARY:Corrandulla Show
DESCRIPTION:
URL:https://www.ihfa.ie/events-cal/corrandulla-show-2/
END:VEVENT
BEGIN:VEVENT
DTSTART;VALUE=DATE:20250622
DTEND;VALUE=DATE:20250623
DTSTAMP:20260422T191205
CREATED:20250530T134835Z
LAST-MODIFIED:20250530T134836Z
UID:11083-1750550400-1750636799@www.ihfa.ie
SUMMARY:Galway Calf Show
DESCRIPTION:Galway club will host their calf show in conjunction with Corrandulla show on Sunday the 22nd of June.
URL:https://www.ihfa.ie/events-cal/galway-calf-show-2/
END:VEVENT
BEGIN:VEVENT
DTSTART;VALUE=DATE:20250622
DTEND;VALUE=DATE:20250623
DTSTAMP:20260422T191205
CREATED:20250528T094804Z
LAST-MODIFIED:20250528T094805Z
UID:11052-1750550400-1750636799@www.ihfa.ie
SUMMARY:Limerick Clare Calf Show
DESCRIPTION:Limerick Clare club will host their calf show in conjunction with Newcastle West show on Sunday the 22nd of June.
URL:https://www.ihfa.ie/events-cal/limerick-clare-calf-show-3/
END:VEVENT
BEGIN:VEVENT
DTSTART;VALUE=DATE:20250621
DTEND;VALUE=DATE:20250622
DTSTAMP:20260422T191205
CREATED:20250530T142135Z
LAST-MODIFIED:20250530T142136Z
UID:11107-1750464000-1750550399@www.ihfa.ie
SUMMARY:Gorey Show
DESCRIPTION:
URL:https://www.ihfa.ie/events-cal/gorey-show/
END:VEVENT
BEGIN:VEVENT
DTSTART;VALUE=DATE:20250620
DTEND;VALUE=DATE:20250621
DTSTAMP:20260422T191205
CREATED:20250612T114240Z
LAST-MODIFIED:20250612T114240Z
UID:11181-1750377600-1750463999@www.ihfa.ie
SUMMARY:Monamore "Blooms of 2025" Sale
DESCRIPTION:Monamore “Blooms of 2025” Sale on Friday 20th of June at and in conjunction with Carnaross Mart\, Kells\, Co. Meath\, A82 AP90 for Thomas\, Rhona and James Kelly \n  \nCatalogue can be found here
URL:https://www.ihfa.ie/events-cal/monamore-blooms-of-2025-sale/
END:VEVENT
BEGIN:VEVENT
DTSTART;VALUE=DATE:20250620
DTEND;VALUE=DATE:20250621
DTSTAMP:20260422T191205
CREATED:20250530T133805Z
LAST-MODIFIED:20250530T133805Z
UID:11073-1750377600-1750463999@www.ihfa.ie
SUMMARY:Tipp/Waterford Field Evening - John Long
DESCRIPTION:Tipperary/Waterford club will host a field evening at John Long’s “Roadmill” Herd\, Mullawns\, Thurles\, Co. Tipperary\, E41 CY94 on the 20th of June. \n 
URL:https://www.ihfa.ie/events-cal/tipp-waterford-field-evening-john-long/
END:VEVENT
BEGIN:VEVENT
DTSTART;VALUE=DATE:20250619
DTEND;VALUE=DATE:20250620
DTSTAMP:20260422T191205
CREATED:20250612T111218Z
LAST-MODIFIED:20250612T111219Z
UID:11175-1750291200-1750377599@www.ihfa.ie
SUMMARY:Limerick/Clare Club Field Evening - Kieran Irwin
DESCRIPTION:Limerick/Clare Club Field Evening will be held at Kieran Irwin’s “Mijaski” Herd\, Frankfort\, Ballingarry\, Rathkeale\, Co. Limerick\, V94 D653 on Thursday the 19th of June at 7pm
URL:https://www.ihfa.ie/events-cal/limerick-clare-club-field-evening-kieran-irwin/
END:VEVENT
BEGIN:VEVENT
DTSTART;VALUE=DATE:20250619
DTEND;VALUE=DATE:20250620
DTSTAMP:20260422T191205
CREATED:20250512T112253Z
LAST-MODIFIED:20250612T112153Z
UID:11026-1750291200-1750377599@www.ihfa.ie
SUMMARY:Laois/Offaly Club Field Evening - Paul Delaney
DESCRIPTION:Laois/Offaly Club Field Evening will be held on Paul Delaney’s Borris Herd\, Broomfield House\, Borris Great\, Portlaoise\, Co. Laois\, R32 VX89 on the 19th of June at 7.30pm.
URL:https://www.ihfa.ie/events-cal/laois-offaly-club-field-evening-paul-delaney/
END:VEVENT
BEGIN:VEVENT
DTSTART;VALUE=DATE:20250618
DTEND;VALUE=DATE:20250619
DTSTAMP:20260422T191205
CREATED:20250612T113853Z
LAST-MODIFIED:20250612T114435Z
UID:11179-1750204800-1750291199@www.ihfa.ie
SUMMARY:Dalevalley Sky-High Protein Sale 2025
DESCRIPTION:Dalevalley Sky-High Protein Sale will take place on Wednesday the 18th of June at and in conjunction with Carnaross Mart \nSelling 47 Deep Pedigreed HeifersSelling 1 Deep Pedigreed BullEntries from Dalevalley\, Hallow & Clonpaddin \nCatalogue can be found here
URL:https://www.ihfa.ie/events-cal/dalevalley-sky-high-protein-sale-2025/
END:VEVENT
BEGIN:VEVENT
DTSTART;VALUE=DATE:20250615
DTEND;VALUE=DATE:20250616
DTSTAMP:20260422T191205
CREATED:20250530T142114Z
LAST-MODIFIED:20250530T142114Z
UID:11105-1749945600-1750031999@www.ihfa.ie
SUMMARY:Athlone Show
DESCRIPTION:
URL:https://www.ihfa.ie/events-cal/athlone-show/
END:VEVENT
BEGIN:VEVENT
DTSTART;TZID=UTC:20250614T080000
DTEND;TZID=UTC:20250615T170000
DTSTAMP:20260422T191205
CREATED:20250530T141942Z
LAST-MODIFIED:20250530T141942Z
UID:11103-1749888000-1750006800@www.ihfa.ie
SUMMARY:Cork Summer Show
DESCRIPTION:
URL:https://www.ihfa.ie/events-cal/cork-summer-show-2/
END:VEVENT
BEGIN:VEVENT
DTSTART;VALUE=DATE:20250614
DTEND;VALUE=DATE:20250615
DTSTAMP:20260422T191205
CREATED:20250530T141921Z
LAST-MODIFIED:20250612T111328Z
UID:11101-1749859200-1749945599@www.ihfa.ie
SUMMARY:Armagh Show
DESCRIPTION:
URL:https://www.ihfa.ie/events-cal/armagh-show/
END:VEVENT
BEGIN:VEVENT
DTSTART;VALUE=DATE:20250613
DTEND;VALUE=DATE:20250614
DTSTAMP:20260422T191205
CREATED:20250530T133219Z
LAST-MODIFIED:20250530T133219Z
UID:11071-1749772800-1749859199@www.ihfa.ie
SUMMARY:Tipp/Waterford Field Evening - Patrick Quealy
DESCRIPTION:Tipperary/Waterford club will host a field evening at Patrick Quealy’s “Grenan” Herd\, Grenan Upper\, Kilmacthmas\, Co. Waterford\, X42 WP60 on the 13th of June.
URL:https://www.ihfa.ie/events-cal/tipp-waterford-field-evening-patrick-quealy/
END:VEVENT
BEGIN:VEVENT
DTSTART;VALUE=DATE:20250613
DTEND;VALUE=DATE:20250614
DTSTAMP:20260422T191205
CREATED:20250530T131726Z
LAST-MODIFIED:20250530T132442Z
UID:11064-1749772800-1749859199@www.ihfa.ie
SUMMARY:North Eastern Club Field Evening - Eoin & Joe Lenehan
DESCRIPTION:The North Eastern club will host a field evening at Eoin and Joe Lenehan’s farm\, Scattenagh\, Duleek\, A92 FD93 – at 7pm\, Friday 13th June
URL:https://www.ihfa.ie/events-cal/north-eastern-club-field-evening-2/
END:VEVENT
BEGIN:VEVENT
DTSTART;VALUE=DATE:20250613
DTEND;VALUE=DATE:20250614
DTSTAMP:20260422T191205
CREATED:20250509T150329Z
LAST-MODIFIED:20250521T081421Z
UID:11022-1749772800-1749859199@www.ihfa.ie
SUMMARY:Cork Club - Field Evening
DESCRIPTION:The Cork Club will host a field evening on Friday June the 13th at Michael O’Leary’s “Clondrohid” Herd\, Clondrohid\, Macroom\, P12 R627
URL:https://www.ihfa.ie/events-cal/cork-club-field-evening/
END:VEVENT
BEGIN:VEVENT
DTSTART;VALUE=DATE:20250613
DTEND;VALUE=DATE:20250614
DTSTAMP:20260422T191205
CREATED:20250501T144526Z
LAST-MODIFIED:20250509T145828Z
UID:10996-1749772800-1749859199@www.ihfa.ie
SUMMARY:Galway Holstein Friesian Club Field Evening
DESCRIPTION:Galway Holstein Friesian Club Field Evening \nFriday 13th June 2025 – Hosted by Thomas Cahill\, Tonemace Herd\, Corrandulla\, Co Galway H91 H028 \nStarts at 7pm
URL:https://www.ihfa.ie/events-cal/galway-holstein-friesian-club-field-evening/
END:VEVENT
BEGIN:VEVENT
DTSTART;VALUE=DATE:20250611
DTEND;VALUE=DATE:20250612
DTSTAMP:20260422T191205
CREATED:20250509T144539Z
LAST-MODIFIED:20250509T145634Z
UID:11014-1749600000-1749686399@www.ihfa.ie
SUMMARY:Slaney Club Field Evening - Walter Crean
DESCRIPTION:Slaney Club Field Evening on Wednesday 11th June will be in Walter Crean’s Beechlands Herd Ballyelland\, Davidstown\, Enniscorthy\, Co Wexford Y21NW56.
URL:https://www.ihfa.ie/events-cal/slaney-club-field-evening-walter-crean/
END:VEVENT
BEGIN:VEVENT
DTSTART;VALUE=DATE:20250608
DTEND;VALUE=DATE:20250609
DTSTAMP:20260422T191205
CREATED:20250530T141901Z
LAST-MODIFIED:20250530T141902Z
UID:11099-1749340800-1749427199@www.ihfa.ie
SUMMARY:Dundalk Show
DESCRIPTION:
URL:https://www.ihfa.ie/events-cal/dundalk-show/
END:VEVENT
BEGIN:VEVENT
DTSTART;VALUE=DATE:20250608
DTEND;VALUE=DATE:20250609
DTSTAMP:20260422T191205
CREATED:20250530T141839Z
LAST-MODIFIED:20250530T141839Z
UID:11097-1749340800-1749427199@www.ihfa.ie
SUMMARY:Clonakilty Show
DESCRIPTION:
URL:https://www.ihfa.ie/events-cal/clonakilty-show/
END:VEVENT
BEGIN:VEVENT
DTSTART;VALUE=DATE:20250607
DTEND;VALUE=DATE:20250609
DTSTAMP:20260422T191205
CREATED:20250530T141735Z
LAST-MODIFIED:20250604T142356Z
UID:11095-1749254400-1749427199@www.ihfa.ie
SUMMARY:Ballymoney Show
DESCRIPTION:
URL:https://www.ihfa.ie/events-cal/ballymoney-show/
END:VEVENT
END:VCALENDAR