BEGIN:VCALENDAR
VERSION:2.0
PRODID:-//IHFA - ECPv6.15.14//NONSGML v1.0//EN
CALSCALE:GREGORIAN
METHOD:PUBLISH
X-WR-CALNAME:IHFA
X-ORIGINAL-URL:https://www.ihfa.ie
X-WR-CALDESC:Events for IHFA
REFRESH-INTERVAL;VALUE=DURATION:PT1H
X-Robots-Tag:noindex
X-PUBLISHED-TTL:PT1H
BEGIN:VTIMEZONE
TZID:UTC
BEGIN:STANDARD
TZOFFSETFROM:+0000
TZOFFSETTO:+0000
TZNAME:UTC
DTSTART:20250101T000000
END:STANDARD
END:VTIMEZONE
BEGIN:VEVENT
DTSTART;VALUE=DATE:20260424
DTEND;VALUE=DATE:20260425
DTSTAMP:20260421T223923
CREATED:20260408T140737Z
LAST-MODIFIED:20260420T092554Z
UID:11751-1776988800-1777075199@www.ihfa.ie
SUMMARY:Collinsfort Dispersal Sale for Joe Collins
DESCRIPTION:Corrin Mart\, Fermoy\,Co.Cork. P61 EE37\ncorkmarts.com/wp-content/uploads/2026/04/Collinsfort-Holsteins-Herd-Catalogue-24th-April.pdf?fbclid=IwY2xjawRS0FZleHRuA2FlbQIxMABicmlkETFGS21vd1hiN1NGbTM4NU9ic3J0YwZhcHBfaWQQMjIyMDM5MTc4ODIwMDg5MgABHhvtrZQvW1eBpNYfi4LA4i324wkTAzrxcdqcUh4xQTt5DYz6RWyRUYa8v9dQ_aem_YxH5mDqyrPb5h0wrAlARGg
URL:https://www.ihfa.ie/events-cal/collinsfort-dispersal-sale-for-joe-collins/
END:VEVENT
BEGIN:VEVENT
DTSTART;VALUE=DATE:20260425
DTEND;VALUE=DATE:20260426
DTSTAMP:20260421T223923
CREATED:20251128T100111Z
LAST-MODIFIED:20251128T100112Z
UID:11579-1777075200-1777161599@www.ihfa.ie
SUMMARY:Emerald Expo 2026
DESCRIPTION:Emerald Expo will take place at the Virginia Show Centre on the 25th of April 2026
URL:https://www.ihfa.ie/events-cal/emerald-expo-2026/
ATTACH;FMTTYPE=image/jpeg:https://www.ihfa.ie/wp-content/uploads/2025/11/Emerald-Expo-295-scaled.jpg
END:VEVENT
END:VCALENDAR